BEGIN:VCALENDAR
VERSION:2.0
PRODID:-//https://www.takethedate.it///NONSGML kigkonsult.se iCalcreator 2.10.15//
METHOD:PUBLISH
BEGIN:VEVENT
UID:20260422T120626CEST-7229T2ZzVB@https://www.takethedate.it/
DTSTAMP:20260422T100626Z
DESCRIPTION:Le complesse regole del sistema ETS\, in continua evoluzione\, 
 influiscono notevolmente sulle risorse che i gestori si ritrovano ad impie
 gare in tale ambito\, sia dal punto di vista amministrativo che della stes
 sa compliance. Diventa fondamentale l’ottimizzazione del rapporto costi/be
 nefici per mezzo di un continuo aggiornamento sugli aspetti normativi\, il
  conseguente adeguamento e l’efficiente gestione delle emissioni. NE Nomis
 ma Energia propone ai soggetti obbligati un corso di formazione che ha com
 e obiettivo la formazione specifica del personale interno responsabile del
 la gestione ordinaria del sistema ETS\, fornendo gli strumenti per ottempe
 rare agli obblighi tecnico/amministrativi previsti dal sistema ed evitare 
 ulteriori oneri economici derivanti da una cattiva gestione o\, nei casi p
 iù gravi\, da inadempienze normative. https://www.takethedate.it/tutti-gli
 -eventi/Eventi/9180-la-gestione-tecnica-del-sistema-ets---adempimenti-per-
 le-aziende.html
DTSTART:20181129T083000Z
DTEND:20181129T163000Z
LOCATION: ()
SUMMARY:La gestione tecnica del sistema ETS – Adempimenti per le aziende
URL:https://www.takethedate.it/tutti-gli-eventi/Eventi/9180-la-gestione-tec
 nica-del-sistema-ets---adempimenti-per-le-aziende.html
END:VEVENT
END:VCALENDAR
