BEGIN:VCALENDAR
VERSION:2.0
PRODID:-//https://www.takethedate.it///NONSGML kigkonsult.se iCalcreator 2.10.15//
METHOD:PUBLISH
BEGIN:VEVENT
UID:20260422T160313CEST-6624CD0ZoL@https://www.takethedate.it/
DTSTAMP:20260422T140313Z
DESCRIPTION:26 Settembre 2018Fintech District - Milano\n \n27 Settembre 201
 8Atahotel Expo Fiera - Pero (MI)\nDa 11 anni Forum Banca crea contenuti in
 novativi e specifici per il settore Banking e offre occasioni di networkin
 g esclusive.\nMa quali saranno i temi principali del 2018?\n\nOpen Innovat
 ion: è solo una questione di scelta?\nBlockchain e Tecnologie DLT: dall’el
 aborazione dei pagamenti alla riduzione dei costi operativi sino alla gest
 ione della sicurezza dell’identità e della contrattualistica. Quali i pros
 simi utilizzi?\nICO: oltre l’hype\, cosa insegna la Svizzera nel renderle 
 legali?\nArtificial Intelligence: come rendere l’esperienza cliente Human 
 Like?\nPDS2: come sfruttare i dati e aprire le API senza aumentare i costi
  IT?\nCyber Security: tra PSD2\, Open Banking e GDPR come evitare un data 
 breach?\nCloud Computing: come sfruttarlo per supportare i modelli “Tech D
 riven”?\nRegTech: quali soluzioni rispondono alle nuove esigenze portate d
 all’Open Banking?\nSPID: come renderla interoperabile con i Sistemi non Pu
 bblici?\nFinTech e TechFin: da Co-mpetizione to Co-opetizione: cosa succed
 e quando si rompono le barriere tra le banche e i nuovi disruptor?\n\nALTE
 N Italia vi aspetta in qualità di Exhibitor giovedì 27 settembre\, giorno 
 della Main Conference\, a Milano\, presso l’Atahotel Expo Fiera – Pero (MI
 ).\nAvrete la possibilità di confrontarvi con i nostri esperti di Banking 
 e Assurance e scoprire tutte le ultime novità del settore.\nNon perdetevi 
 questa occasione!\nPer ulteriori informazioni sull’evento\, clicca qui. ht
 tps://www.takethedate.it/tutti-gli-eventi/Eventi/8006-forum-banca-2018.htm
 l
DTSTART:20180927T070000Z
DTEND:20180928T160000Z
LOCATION: ()
SUMMARY:Forum Banca 2018
URL:https://www.takethedate.it/tutti-gli-eventi/Eventi/8006-forum-banca-201
 8.html
END:VEVENT
END:VCALENDAR
