BEGIN:VCALENDAR
VERSION:2.0
PRODID:-//https://www.takethedate.it///NONSGML kigkonsult.se iCalcreator 2.10.15//
METHOD:PUBLISH
BEGIN:VEVENT
UID:20260422T225612CEST-134260uKUo@https://www.takethedate.it/
DTSTAMP:20260422T205612Z
DESCRIPTION:Premio longevitas per le tesi di laurea sui temi della longevit
 à. Su iniziativa del senatore Guido Quintino Liris https://www.takethedate
 .it/tutti-gli-eventi/Eventi/52519-premio-longevitas.html
DTSTART:20260423T130000Z
DTEND:20260423T150000Z
LOCATION:Roma (Roma)
SUMMARY:Premio longevitas
URL:https://www.takethedate.it/tutti-gli-eventi/Eventi/52519-premio-longevi
 tas.html
END:VEVENT
END:VCALENDAR
