BEGIN:VCALENDAR
VERSION:2.0
PRODID:-//https://www.takethedate.it///NONSGML kigkonsult.se iCalcreator 2.10.15//
METHOD:PUBLISH
BEGIN:VEVENT
UID:20260422T225144CEST-2682vS9S7j@https://www.takethedate.it/
DTSTAMP:20260422T205144Z
DESCRIPTION:Osservatorio nazionale ERP 2024/2025. Su iniziativa dei senator
 i Bergesio\, Losacco e Paroli https://www.takethedate.it/tutti-gli-eventi/
 Eventi/52517-osservatorio-nazionale-erp.html
DTSTART:20260423T100000Z
DTEND:20260423T120000Z
LOCATION:Roma (Roma)
SUMMARY:Osservatorio nazionale ERP
URL:https://www.takethedate.it/tutti-gli-eventi/Eventi/52517-osservatorio-n
 azionale-erp.html
END:VEVENT
END:VCALENDAR
