BEGIN:VCALENDAR
VERSION:2.0
PRODID:-//https://www.takethedate.it///NONSGML kigkonsult.se iCalcreator 2.10.15//
METHOD:PUBLISH
BEGIN:VEVENT
UID:20260422T225128CEST-3030LvbVSZ@https://www.takethedate.it/
DTSTAMP:20260422T205128Z
DESCRIPTION:Presentazione del Video “Oltrepò pavese” e del documentario “Re
 discovering Italy’s AI (Agricultural Intelligence)”. Su iniziativa del sen
 atore Gian Marco Centinaio https://www.takethedate.it/tutti-gli-eventi/Eve
 nti/52515-presentazione-oltrepo-pavese-e-rediscovering-italys-ai.html
DTSTART:20260423T080000Z
DTEND:20260423T110000Z
LOCATION:Roma (Roma)
SUMMARY:Presentazione:  “Oltrepò pavese” e “Rediscovering Italy’s AI'
URL:https://www.takethedate.it/tutti-gli-eventi/Eventi/52515-presentazione-
 oltrepo-pavese-e-rediscovering-italys-ai.html
END:VEVENT
END:VCALENDAR
