BEGIN:VCALENDAR
VERSION:2.0
PRODID:-//https://www.takethedate.it///NONSGML kigkonsult.se iCalcreator 2.10.15//
METHOD:PUBLISH
BEGIN:VEVENT
UID:20260422T225409CEST-0729WE1mam@https://www.takethedate.it/
DTSTAMP:20260422T205409Z
DESCRIPTION:Longevità e dialogo tra generazioni: da fragilità sociale a ris
 orsa per il Paese”. Su iniziativa del senatore Gianni Berrino https://www.
 takethedate.it/tutti-gli-eventi/Eventi/52514-longevita-e-dialogo-tra-gener
 azioni.html
DTSTART:20260423T080000Z
DTEND:20260423T110000Z
LOCATION:Roma (Roma)
SUMMARY:Longevità e dialogo tra generazioni
URL:https://www.takethedate.it/tutti-gli-eventi/Eventi/52514-longevita-e-di
 alogo-tra-generazioni.html
END:VEVENT
END:VCALENDAR
