BEGIN:VCALENDAR
VERSION:2.0
PRODID:-//https://www.takethedate.it///NONSGML kigkonsult.se iCalcreator 2.10.15//
METHOD:PUBLISH
BEGIN:VEVENT
UID:20260419T144752CEST-8820on9Tzl@https://www.takethedate.it/
DTSTAMP:20260419T124752Z
DESCRIPTION:Consiglio dei Ministri del 9 aprile 2026 ore 17\nIl Consiglio d
 ei ministri è convocato oggi\, giovedì 9 aprile 2026\, alle ore 17.00 a Pa
 lazzo Chigi\, per l’esame del seguente ordine del giorno:\nSCHEMA DI DISEG
 NO DI LEGGE: Ratifica ed esecuzione del Trattato sul trasferimento delle p
 ersone condannate tra la Repubblica italiana e la Repubblica del Paraguay\
 , fatto ad Asunción il 7 luglio 2023 (AFFARI ESTERI E COOPERAZIONE INTERNA
 ZIONALE)\;SCHEMA DI DISEGNO DI LEGGE: Ratifica ed esecuzione dei Trattati 
 di estradizione e trasferimento di persone condannate tra la Repubblica it
 aliana e la Repubblica kirghisa\, fatti a Roma il 3 ottobre 2024 (AFFARI E
 STERI E COOPERAZIONE INTERNAZIONALE)\;SCHEMA DI DISEGNO DI LEGGE: Ratifica
  ed esecuzione dei Trattati di estradizione\, trasferimento delle persone 
 condannate e assistenza giudiziaria in materia penale tra la Repubblica it
 aliana e la Repubblica socialista del Vietnam\, fatti a Roma il 18 e 26 lu
 glio 2023 (AFFARI ESTERI E COOPERAZIONE INTERNAZIONALE)\;SCHEMA DI DECRETO
  LEGISLATIVO: Attuazione della Direttiva (UE) 2024/1233 del Parlamento eur
 opeo e del Consiglio\, del 24 aprile 2024\, relativa a una procedura unica
  di domanda per il rilascio di un permesso unico che consente ai cittadini
  di Paesi terzi di soggiornare e lavorare nel territorio di uno Stato memb
 ro e a un insieme comune di diritti per i lavoratori di Paesi terzi che so
 ggiornano regolarmente in uno Stato membro – ESAME DEFINITIVO (AFFARI EURO
 PEI\, PNRR E POLITICHE DI COESIONE - INTERNO - LAVORO E POLITICHE SOCIALI)
 \;SCHEMA DI DECRETO DEL PRESIDENTE DELLA REPUBBLICA: Regolamento recante m
 odifiche al decreto del Presidente della Repubblica 16 dicembre 1992\, n. 
 495\, per l’introduzione della sigla di individuazione delle province di S
 ulcis-Iglesiente\, Medio Campidano\, Ogliastra e Gallura Nord-Est Sardegna
  – ESAME PRELIMINARE (INFRASTRUTTURE E TRASPORTI)\;LEGGI REGIONALI\;VARIE 
 ED EVENTUALI. https://www.takethedate.it/tutti-gli-eventi/Eventi/51931-con
 siglio-dei-ministri-del-9-aprile-2026.html
DTSTART:20260409T150000Z
DTEND:20260409T170000Z
LOCATION:Roma (Roma)
SUMMARY:Consiglio dei Ministri del 9 aprile 2026
URL:https://www.takethedate.it/tutti-gli-eventi/Eventi/51931-consiglio-dei-
 ministri-del-9-aprile-2026.html
END:VEVENT
END:VCALENDAR
