BEGIN:VCALENDAR
VERSION:2.0
PRODID:-//https://www.takethedate.it///NONSGML kigkonsult.se iCalcreator 2.10.15//
METHOD:PUBLISH
BEGIN:VEVENT
UID:20260422T195306CEST-3183vxuVJv@https://www.takethedate.it/
DTSTAMP:20260422T175306Z
DESCRIPTION:Sovranità digitale. Intelligenza artificiale\, quantum computin
 g e ruolo dell’ingegneria nella strategia europea. Su iniziativa del senat
 ore Antonio Salvatore Trevisi https://www.takethedate.it/tutti-gli-eventi/
 Eventi/51397-sovranita-digitale.html
DTSTART:20260324T140000Z
DTEND:20260324T160000Z
LOCATION:Roma (Roma)
SUMMARY:Sovranità digitale
URL:https://www.takethedate.it/tutti-gli-eventi/Eventi/51397-sovranita-digi
 tale.html
END:VEVENT
END:VCALENDAR
