BEGIN:VCALENDAR
VERSION:2.0
PRODID:-//https://www.takethedate.it///NONSGML kigkonsult.se iCalcreator 2.10.15//
METHOD:PUBLISH
BEGIN:VEVENT
UID:20260422T225004CEST-8598ol9sLA@https://www.takethedate.it/
DTSTAMP:20260422T205004Z
DESCRIPTION:⁠Bologna: conferenza “Vino e giustizia sociale: l’alleanza nece
 ssaria”\, secondo appuntamento di un ciclo di conferenze anticipatorie di 
 Slow Wine Fair che si terrà a BolognaFiere dal 22 al 24 febbraio. Ore 18\,
 00. In streaming.\nIl tema centrale di Slow Wine Fair è la giustizia socia
 le nel mondo del vino\, con una particolare attenzione alla dimensione lav
 orativa: rapporti di lavoro equi tra vitivinicoltori e dipendenti\, un’occ
 upazione che garantisca a tutti i lavoratori dignità\, diritti e sicurezza
 \, oltre a un compenso proporzionato alla quantità e qualità del lavoro sv
 olto. Un tema cruciale in un settore\, quello agricolo\, dove la piaga del
 lo sfruttamento è ancora diffusa.\nIntervengono: \n\n\nMaria Panariello\, 
 Terra! Aps\n\n\nGiosuè De Salvo\, Stronger2gether Italy Wine Sector Progra
 mme Manager\n\n\nChristian Buono\, CoopEra\, Catalunya\n\n\nFrancesco Pasc
 ale\, Alberata d’Asprinio\n\n\nModera: Gabriele Rosso\, vicecuratore Slow 
 Wine https://www.takethedate.it/tutti-gli-eventi/Eventi/50222-vino-e-giust
 izia-sociale-lalleanza-necessaria.html
DTSTART:20260211T170000Z
DTEND:20260211T190000Z
LOCATION:Bologna ()
SUMMARY:Vino e giustizia sociale: l’alleanza necessaria
URL:https://www.takethedate.it/tutti-gli-eventi/Eventi/50222-vino-e-giustiz
 ia-sociale-lalleanza-necessaria.html
END:VEVENT
END:VCALENDAR
