BEGIN:VCALENDAR
VERSION:2.0
PRODID:-//https://www.takethedate.it///NONSGML kigkonsult.se iCalcreator 2.10.15//
METHOD:PUBLISH
BEGIN:VEVENT
UID:20260425T193013CEST-2227PSeA7A@https://www.takethedate.it/
DTSTAMP:20260425T173013Z
DESCRIPTION:“Accendere il futuro – L’Italia e la sfida della transizione en
 ergetica” è il titolo del convegno promosso dal gruppo PD della Camera\, i
 n programma il 30 gennaio a Milano presso la Social Innovation Academy (Ca
 scina Triulza – Area MIND Milano Innovation District\, Rho-Fiera)\, dalle 
 9:30 alle 17:30.\nDopo i saluti iniziali\, l’apertura dei lavori sarà affi
 data a Vinicio Peluffo\, vicepresidente della Commissione Attività Produtt
 ive della Camera\, e ad Antonio Misiani\, senatore e responsabile PD per e
 conomia e finanze\, imprese e infrastrutture. La mattinata prevede una pri
 ma sessione di confronto\, seguita dall’avvio in parallelo di quattro tavo
 li di lavoro dedicati a sicurezza energetica\, decarbonizzazione\, innovaz
 ione e costi/opportunità della transizione. Ai tavoli parteciperanno rappr
 esentanti del mondo societario\, sindacale e associativo\, e saranno coord
 inati da parlamentari dem.\nNel pomeriggio sono in agenda le restituzioni 
 dei tavoli di lavoro e\, a seguire\, una seconda sessione di dibattito.\nT
 ra i relatori che hanno confermato la presenza figurano: Flavio Cattaneo (
 Enel)\, Renato Mazzoncini (A2A)\, Aurelio Regina (delegato per Energia e T
 ransizione energetica di Confindustria)\, Nicola Monti (Edison)\, Antonell
 o Cammisecra(CEO ContourGlobal)\, Stefano Ciafani (presidente Legambiente)
 \, Anna Maria Barile (DG Utilitalia)\, Maria Grazia Midulla (responsabile 
 Clima ed Energia WWF Italia)\, Giorgio Boneschi (DG Elettricità Futura)\, 
 Gianluca Bufo (CEO Iren)\, Maria Letizia Magaldi (vicepresidente Magaldi E
 nergy)\, Antonio Giunta (AD FS Energy)\, Paolo Rocco Viscontini (president
 e Italia Solare)\, esponenti del sindacato\, oltre a rappresentanti di Eni
 \, Ance\, Sorgenia\, Legacoop\, Cna\, ARERA\, Confagricoltura\, CIA\, Cold
 iretti\, Hera\, Acea\, Feralpi\, Confcommercio\, Renexia. https://www.take
 thedate.it/tutti-gli-eventi/Eventi/50008-litalia-e-la-sfida-della-transizi
 one-energetica.html
DTSTART:20260130T083000Z
DTEND:20260130T163000Z
LOCATION: ()
SUMMARY:L’Italia e la sfida della transizione energetica
URL:https://www.takethedate.it/tutti-gli-eventi/Eventi/50008-litalia-e-la-s
 fida-della-transizione-energetica.html
END:VEVENT
END:VCALENDAR
