BEGIN:VCALENDAR
VERSION:2.0
PRODID:-//https://www.takethedate.it///NONSGML kigkonsult.se iCalcreator 2.10.15//
METHOD:PUBLISH
BEGIN:VEVENT
UID:20260422T122400CEST-9487VUoXF3@https://www.takethedate.it/
DTSTAMP:20260422T102400Z
DESCRIPTION:Il Forum ITALIA SOLARE 2025 celebra la sua decima edizione con 
 un evento dedicato al ruolo centrale del fotovoltaico nel futuro energetic
 o italiano.\nDurante la due giorni parleremo di:\n\nsfide regolatorie per 
 lo sviluppo del fotovoltaico\;\ntecnologia made in EU e prospettive per l’
 industria manufatturiera\;\nrilancio del fotovoltaico diffuso e le sfide d
 ella Direttiva case green\;\nflessibilità e accumuli per l’integrazione ne
 lla rete\;\nprospettive per gli impianti utility scale.\n\nPartecipa per a
 vere gli ultimi aggiornamenti sull’innovazione e le politiche per la trans
 izione energetica grazie al confronto con esperti\, istituzioni e operator
 i del settore e per sfruttare i momenti di networking e ampliare le tue op
 portunità di business.\nProgramma\nLunedì 1 dicembre 2025\n13:00 – Registr
 azione dei partecipanti e caffè di benvenuto\n14:30 – Benvenuto e apertura
  dei lavori Paolo Rocco Viscontini\, Presidente ITALIA SOLARE\nDialogo sul
  quadro geopolitico europeo Ne discutono: Simona Benedettini\, CEO & Found
 er RACE Consulting Arturo Lorenzoni\, Professore associato Università degl
 i Studi di Padova\n15:30 – Sessione 1 Le sfide regolatorie e istituzionali
  per lo sviluppo del fotovoltaico. Governance\, regolazione e policy per a
 ccelerare la transizione energetica.\nTemi: strumenti per lo sviluppo degl
 i impianti (PNRR\, FERX\, FERZ)\; aree idonee e pianificazione regionale\;
  tagli alla produzione\, sicurezza del sistema e BESS\; infrastrutture di 
 rete e flessibilità del sistema elettrico.\nKeynote speech: Luciano Barra\
 , Responsabile legislativo – ITALIA SOLARE\nNe discutono: Elena Colombo\, 
 Dirigente UO Risorse Energetiche – Regione Lombardia Oreste D’Addese\, Res
 ponsabile Sviluppo rete – e-distribuzione Francesco Del Pizzo\, Responsabi
 le Strategie Sviluppo Rete e Dispacciamento – Terna Emilio Gatto\, Diretto
 re Generale – MASAF Alessandro Noce\, Direttore Generale Mercati e Infrast
 rutture Energetiche – MASE Fabrizio Penna\, Capo Dipartimento Unità di mis
 sione per il PNRR – MASE Massimo Ricci\, Direttore Divisione Energia – ARE
 RA\n16:45 – Sessione 2 FV Made in EU: quali prospettive per l’industria ma
 nifatturiera. Come rilanciare una filiera industriale competitiva\, sosten
 ibile e resiliente in Europa e in Italia\, tra Net-Zero Industry Act\, inn
 ovazione tecnologica e politiche di mercato.\nTemi: visione condivisa sull
 e condizioni minime per rilanciare la produzione europea di celle e moduli
 \; raccomandazioni per l’Italia e l’UE su politiche di supporto\, incentiv
 i e strumenti di mercato\; messa in rete tra stakeholder industriali\, ist
 ituzioni e investitori.\nKeynote speech: Walburga Hemetsberger\, CEO di So
 larPower Europe\nNe discutono: Giuseppe Bronzino\, Direttore Generale per 
 gli incentivi alle imprese – MIMIT Stefania Crotta\, Direttore Generale pr
 ogrammi e incentivi finanziari – MASE Alberto Cuter\, Vice Presidente Jink
 oSolar Latam & Italy Francesco Emmolo\, General Manager Italia e Grecia – 
 LONGi Solar Technology Michelangelo Lafronza\, Segretario – ANIE Rinnovabi
 li Stefano Lorenzi\, Amministratore Delegato – 3SUN Andrea Rovera\, Co-coo
 rdinatore GdL Filiera produttiva e approvvigionamenti sostenibili – ITALIA
  SOLARE\n18:00 – Le associazioni come volàno della transizione energetica 
 Le associazioni hanno un ruolo di primo piano nel rappresentare le istanze
  dei loro associati nei rapporti istituzionali. Quali sono le priorità soc
 io-economiche e ambientali della transizione energetica?\nNe discutono: Gi
 anni Vittorio Armani\, Presidente Elettricità Futura Andrea Cristini\, Pre
 sidente ANIE Rinnovabili Paolo Rocco Viscontini\, Presidente ITALIA SOLARE
 \n18:30 – Chiusura dei lavori a cura del Presidente di ITALIA SOLARE\n20:0
 0 – Cena di networking riservata agli associatiMartedì 2 dicembre 2025\n09
 :00 – Registrazione dei partecipanti\n09:45 – Sessione 3 Il fotovoltaico p
 er la generazione distribuita. Modelli di autoconsumo e configurazioni CER
 . Stato dell’arte e prospettive di crescita del FV nei segmenti residenzia
 le e commerciale-industriale (C&I)\, barriere normative\, strumenti di inc
 entivazione e modelli di business replicabili.\nTemi: autoconsumo individu
 ale e collettivo\; comunità energetiche\; misure del PNRR per le PMI.\nKey
 note speech: Andrea Brumgnach\, Vicepresidente – ITALIA SOLARE\nNe discuto
 no: Valentina Bagozzi\, Responsabile Settore Mercato\, Energia e Utilities
  – Confartigianato Simone Bonacini\, Presidente – ATER Giacomo Cantarella\
 , Presidente – ASSOESCO Sara Capuzzo\, Coordinatrice GdL CER e autoconsumo
  diffuso – ITALIA SOLARE Idilio Ciuffarella\, Business Development Manager
  – EcoFlow Italia Enrico Meneghetti\, ESPE\n10:45 – Sessione 4 Flessibilit
 à e accumuli per l’integrazione del fotovoltaico. Tecnologie\, modelli di 
 business e mercati per abilitare l’autoconsumo e la gestione della rete. S
 oluzioni di accumulo e flessibilità per favorire il bilanciamento del sist
 ema elettrico.\nTemi: accumulo on-site e stand-alone\; partecipazione degl
 i accumuli ai mercati elettrici\; demand response\; MACSE e tolling.\nKeyn
 ote speech: Fabio Zanellini\, Coordinatore GdL Accumuli e Idrogeno – ITALI
 A SOLARE\nNe discutono: Andrea Calaudi\, Head of Project Sales\, Large Sca
 le – SMA Antonio Cappa\, Business Development & Regulatory Affairs Lead – 
 Energyteam Ercole De Luca\, Head of Regulatory & European Initiatives – AR
 ETI Enrico Lamanna\, Smart PV Technical Director – Huawei Digital Power It
 alia Gianluca Proietti\, Vicepresidente vendite per Italia e Grecia – Envi
 sion Energy Marco Turchiano\, Responsabile Mercati a Termine Affari Regola
 tori – Terna\n11:45 – Coffee break\n12:15 – Sessione 5 Fotovoltaico diffus
 o: le sfide della Direttiva Case Green. Strumenti normativi e operativi pe
 r il rilancio del FV negli edifici italiani. Quali leve regolatorie per ri
 lanciare il fotovoltaico diffuso nel contesto della transizione post-super
 bonus.\nTemi: Direttiva Case Green\; Conto Termico 3.0\; fine dello scambi
 o sul posto\; fotovoltaico e pompe di calore.\nKeynote speech: Emilio Sani
 \, Consigliere – ITALIA SOLARE\nNe discutono: Benedetta Brighenti\, Dirett
 ore Generale – Renael Antonio Bongiorno\, Vice Presidente – Assoclima Lore
 nzo Colasanti\, Head of Value-Added Services & E-mobility Development – A2
 A Andrea Maria Felici\, Direttore Generale Domanda ed Efficienza Energetic
 a – MASE Ulrich Klammsteiner\, Direttore tecnico – Casaclima Nicola Massar
 o\, Dirigente Tecnologie\, normative tecniche e qualità delle costruzioni 
 – ANCE\n13:30 – Pranzo di networking\n15:00 – Sessione 6 Impianti fotovolt
 aici utility scale. Autorizzazioni\, aste FERX\, PPA e agrivoltaico. Una v
 isione aggiornata sulle sfide e opportunità per gli impianti utility scale
  in Italia.\nTemi: iter autorizzativi (TUFER) e connessioni\; novità delle
  misure di supporto\; bancabilità e finanziabilità (Energy Release e PPA)\
 ; innovazioni dal punto di vista degli EPC.\nKeynote speech: Tommaso Barbe
 tti\, Partner – Elemens\nNe discutono: Andrea Andreuzzi\, Energy Market Ad
 visor – Confindustria Marilena Barbaro\, Direttore Generale Infrastrutture
  e Sicurezza – MASE Silvia Barenghi\, DXT Commodities Paola Brambilla\, Co
 ordinatrice Sottocommissione VIA – MASE Valerio Natalizia\, CEO – ECO The 
 Photovoltaic Group Rolando Roberto\, Vicepresidente – ITALIA SOLARE Davide
  Valenzano\, Regulatory Affairs & Markets Director – GSE\n16:30 – Chiusura
  dei lavori Paolo Rocco Viscontini\, Presidente ITALIA SOLARE Maurizio Del
 fanti\, Coordinatore CTS ITALIA SOLARE\n17:00 – Fine evento https://www.ta
 kethedate.it/tutti-gli-eventi/Eventi/48685-forum-italia-solare-fotovoltaic
 o-al-centro-del-sistema-energetico-industria-reti-e-mercato.html
DTSTART:20251201T120000Z
DTEND:20251202T160000Z
LOCATION: ()
SUMMARY:Forum Italia Solare - Fotovoltaico al centro del sistema energetico
 : industria\, reti e mercato
URL:https://www.takethedate.it/tutti-gli-eventi/Eventi/48685-forum-italia-s
 olare-fotovoltaico-al-centro-del-sistema-energetico-industria-reti-e-merca
 to.html
END:VEVENT
END:VCALENDAR
