BEGIN:VCALENDAR
VERSION:2.0
PRODID:-//https://www.takethedate.it///NONSGML kigkonsult.se iCalcreator 2.10.15//
METHOD:PUBLISH
BEGIN:VEVENT
UID:20260421T182706CEST-959921TvLl@https://www.takethedate.it/
DTSTAMP:20260421T162706Z
DESCRIPTION:L'urgente necessità di contrastare il cambiamento climatico ha 
 posto la decarbonizzazione al centro delle iniziative globali. Edifici e c
 ittà intelligenti e digitalizzati svolgono un ruolo cruciale in questo sfo
 rzo\, offrendo molteplici vantaggi in ambito energetico\, economico e soci
 ale.\nGli edifici sono responsabili di circa il 40% del consumo totale di 
 energia primaria in Europa\, con gli impianti di climatizzazione (HVAC) i 
 principali utilizzatori al fine di garantire il benessere all’interno degl
 i ambienti. Dal punto di vista energetico\, gli edifici intelligenti utili
 zzano sensori avanzati\, dispositivi IoT e sistemi basati sull'intelligenz
 a artificiale per ottimizzare il consumo energetico.\nQueste tecnologie co
 nsentono il monitoraggio e la regolazione in tempo reale dei sistemi di ri
 scaldamento\, raffrescamento e illuminazione\, riducendo significativament
 e le inefficienze nell’utilizzo dell’energia\, mentre i sistemi energetici
  distribuiti\, come le fonti rinnovabili\, la cogenerazione e l'accumulo d
 i energia (elettrica e termica)\, consentono agli edifici di diventare sia
  consumatori che produttori di energia pulita.\nCome conseguenza di questo
  trend\, il crescente utilizzo negli ultimi anni di sistemi basati sull'in
 telligenza artificiale\, e in generale dell'automazione degli edifici inte
 lligenti\, sta rapidamente aumentando il consumo energetico dei data cente
 r. Ciò pone importanti sfide al contenimento del loro consumo energetico e
  al miglior utilizzo del calore di scarto risultante.\nInoltre\, il passag
 gio a sistemi di riscaldamento e raffreddamento elettrificati pone la sfid
 a di aumentare la produzione di energia da fonti rinnovabili e l'efficienz
 a energetica a livelli sempre più elevati. Da questo punto di vista\, nell
 e smart city\, i sistemi di reti intelligenti possono bilanciare domanda e
  offerta di energia in modo più efficiente\, integrando perfettamente le f
 onti rinnovabili.\nDal punto di vista economico\, sebbene gli investimenti
  iniziali possano essere importanti\, i risparmi a lungo termine sui costi
  energetici e una migliore gestione delle risorse grazie al passaggio a in
 frastrutture più intelligenti offrono significativi vantaggi.\nDal punto d
 i vista sociale\, edifici e città digitalizzati possono migliorare la qual
 ità della vita. Una migliore qualità dell'aria grazie alla riduzione delle
  emissioni\, sistemi di trasporto pubblico più efficienti e una migliore p
 ianificazione urbana contribuiscono a creare ambienti più sani e vivibili.
  Le tecnologie intelligenti possono anche promuovere l'equità sociale migl
 iorando l'accesso a servizi e informazioni per tutti i cittadini.\nLa tran
 sizione verso edifici e città più efficienti con l'integrazione di fonti r
 innovabili e il riutilizzo del calore rappresenta un passo decisivo verso 
 un'economia digitale più verde e resiliente. Questi sono i temi principali
  del 54° Congresso Internazionale AiCARR che si terrà dal 25 al 26 marzo 2
 026 a Milano.\nTopics\n1. Dalla EPBD alla pratica progettuale\nIl nuovo qu
 adro normativo europeo in strumenti pratici per progettisti e operatori. F
 ocus su metodologie ottimali in termini di costi\, indicatori di prestazio
 ne\, registri di esercizio e integrazione di sistemi di ispezione\, monito
 raggio e verifica.\n2. Decarbonizzazione dei servizi di costruzione e inte
 grazione energetica\nTecnologie e strategie per realizzare edifici a zero 
 emissioni di carbonio attraverso l'elettrificazione\, i sistemi ibridi e l
 'integrazione delle fonti rinnovabili. Include il recupero energetico\, l'
 utilizzo del calore di scarto e la connessione di edifici e data center al
 le reti di teleriscaldamento e teleraffrescamento.\n3. Qualità dell'aria i
 nterna\, comfort e salute\nProgettare strategie di ventilazione e controll
 o che garantiscano ambienti interni salubri\, inclusivi e resilienti. Focu
 s sul monitoraggio della qualità dell'aria interna\, sulla ventilazione ad
 attiva e sull'equilibrio tra efficienza energetica\, comfort e benessere d
 egli occupanti.\n4. Digitalizzazione e gestione intelligente delle prestaz
 ioni\nUtilizzo di strumenti digitali e controllo basato sui dati per ottim
 izzare le prestazioni dell'edificio durante tutto il suo ciclo di vita. In
 clude BACS\, gemelli digitali\, manutenzione predittiva e interazione inte
 lligente tra sistemi di costruzione\, data center e reti energetiche urban
 e.\n5. Innovazione nei materiali e nelle soluzioni per i servizi edilizi\n
 Esplorazione di nuovi refrigeranti a basso GWP\, sistemi modulari e prefab
 bricati\, tecnologie avanzate di scambio termico e componenti per la circo
 larità e la resilienza. Illustra i progressi nei sistemi HVAC e di refrige
 razione\, l'uso efficiente dell'energia nell'industria e l'applicazione de
 lle pompe di calore.\n6. Progettazione integrata e collaborazione interdis
 ciplinare\nPromuovere un approccio olistico alla progettazione che integri
  architettura\, servizi edilizi e gestione. Focus sulle metodologie BIM/BE
 M\, sulla messa in servizio\, sulla valutazione post-occupazione e sulle s
 trategie di comfort-by-design per edifici sostenibili\, salubri e a basse 
 emissioni di carbonio. https://www.takethedate.it/tutti-gli-eventi/Eventi/
 48499-decarbonizzare-il-nostro-futuro-aspetti-energetici-economici-e-socia
 li-di-edifici-e-citta-piu-intelligenti-e-digitalizzati.html
DTSTART:20260325T080000Z
DTEND:20260326T170000Z
LOCATION: ()
SUMMARY:Decarbonizzare il nostro futuro: aspetti energetici\, economici e s
 ociali di edifici e città più intelligenti e digitalizzati
URL:https://www.takethedate.it/tutti-gli-eventi/Eventi/48499-decarbonizzare
 -il-nostro-futuro-aspetti-energetici-economici-e-sociali-di-edifici-e-citt
 a-piu-intelligenti-e-digitalizzati.html
END:VEVENT
END:VCALENDAR
