BEGIN:VCALENDAR
VERSION:2.0
PRODID:-//https://www.takethedate.it///NONSGML kigkonsult.se iCalcreator 2.10.15//
METHOD:PUBLISH
BEGIN:VEVENT
UID:20260424T184220CEST-0130unnbgx@https://www.takethedate.it/
DTSTAMP:20260424T164220Z
DESCRIPTION:Dalla decarbonizzazione dei trasporti alla rivoluzione dell’aut
 omotive\, dalla logistica green alle smart city\, il secondo giorno del Gr
 een & Net Zero Talk 2025\, organizzato da RCS Academy in collaborazione co
 n Corriere della Sera e Pianeta 2030\, mette al centro le grandi trasforma
 zioni in atto nei settori della mobilità sostenibile e delle infrastruttur
 e del futuro.\nEsperti\, istituzioni e imprese si confronteranno su nuovi 
 modelli di trasporto per merci e persone\, soluzioni tecnologiche per l’ef
 ficienza e l’integrazione urbana\, e politiche industriali per il rilancio
  della filiera automotive. Un’occasione unica per approfondire le strategi
 e europee e nazionali verso una mobilità decarbonizzata\, digitale e conne
 ssa\, capace di guidare la transizione verde nel rispetto di competitività
  e innovazione.\nNel corso della giornata si alterneranno tavoli tematici 
 e interviste con i principali attori del settore\, che offriranno una pano
 ramica completa sulle evoluzioni del comparto. Un evento imperdibile per c
 hi opera nel mondo dei trasporti\, della mobilità urbana\, delle infrastru
 tture\, dell’automotive e dell’innovazione urbana.\nRelatori:\n\n\nNicola 
 Saldutti – Responsabile Redazione Economia\, Corriere della Sera\n\n\nEdoa
 rdo Vigna – Caporedattore e Responsabile Pianeta 2030\, Corriere della Ser
 a\n\n\nFrancesca Gambarini – Giornalista L’Economia\, Corriere della Sera
 \n\n\nIvo Roberto Cassetta – Amministratore Delegato\, Milano Serravalle -
  Milano Tangenziali\n\n\nFrancesca Cesarale – Funzionaria\, Direzione Gene
 rale Porti\, Logistica e Intermodalità\, MIT\n\n\nClaudio Corrarati – Sind
 aco\, Comune di Bolzano\n\n\nIsabella De Bari – Head of Laboratory\, Proce
 ss and Technologies for Biorefineries and Green Chemistry\, ENEA\n\n\nDari
 o Duse – Italy Country Leader / EMEA Leader of Automotive & Industrial Par
 tner & Managing Director\, AlixPartners\n\n\nGabriele Lucchesi – Hydrogen 
 Director\, Edison Next\n\n\nFrancesco Mascolo – Amministratore Delegato\, 
 MM\n\n\nPasqualino Monti – Amministratore Delegato\, ENAV\n\n\nClaudia Por
 chietto – Presidente\, Cluster Tecnologico Nazionale SmartCommunitiesTech
 \n\n\nFerruccio Resta – Presidente\, Centro Nazionale per la Mobilità Sost
 enibile (MOST)\n\n\nRoberto Vavassori – Presidente\, ANFIA\n\n\n\n\n\nAgen
 da dei lavori\n\n\n\n\n\n\n\n\n\n9.30\nApertura dei lavori\n\n\n\n\nL’Euro
 pa che si muove: neutralità climatica\, nuovi scenari per infrastrutture e
  trasporti\n\n\n\n\n\n\n9.45\nIl presente e il futuro della mobilità\n\n\n
 \n \n\n\n\n\n\n10.00\nINFRASTRUTTURE E DECARBONIZZAZIONE: Ingegneria e ges
 tione delle infrastrutture di trasporto: le nuove pratiche sostenibili\n\n
 \n\n \n\n\n\n\n\n10.30\nINFRASTRUTTURE E DECARBONIZZAZIONE: Logistica e tr
 asporto merci verso una mobilità più sostenibile\n\n\n\n \n\n\n\n\n\n10.40
 \nINFRASTRUTTURE E DECARBONIZZAZIONE: La mobilità aerea tra innovazione te
 cnologica\, sostenibilità e integrazione urbana\n\n\n\n \n\n\n\n\n\n10.50
 \nSMART CITY\n\n\n\n\nUna nuova identità urbana\nDecarbonizzare la città: 
 il futuro dei trasporti pubblici\nCittà connesse e sostenibili: abilitare 
 la smart city\nL’innovazione di ultima generazione nella logistica urbana 
 e nel delivery merci   \n\n\n\n\n\n\n11.40\nFOCUS AUTOMOTIVE\n\n\n\n\nLe n
 uove sfide industriali tra sostenibilità\, innovazione e geopolitica\n\n\n
 \n\n\n\n12.30\nChiusura dei lavori\n\n\n\n\n\n https://www.takethedate.it/
 tutti-gli-eventi/Eventi/47989-infrastrutture-e-mobilita-del-futuro.html
DTSTART:20251029T083000Z
DTEND:20251029T113000Z
LOCATION: ()
SUMMARY:Infrastrutture e Mobilità del Futuro
URL:https://www.takethedate.it/tutti-gli-eventi/Eventi/47989-infrastrutture
 -e-mobilita-del-futuro.html
END:VEVENT
END:VCALENDAR
