BEGIN:VCALENDAR
VERSION:2.0
PRODID:-//https://www.takethedate.it///NONSGML kigkonsult.se iCalcreator 2.10.15//
METHOD:PUBLISH
BEGIN:VEVENT
UID:20260420T041856CEST-0823BjZUXI@https://www.takethedate.it/
DTSTAMP:20260420T021856Z
DESCRIPTION:Il prossimo 14 marzo\, a partire dalle ore 9.30\, nella Sala de
 lla Protomoteca\, il Campidoglio incontrerà l’Asia\, in una giornata di ap
 profondimenti culturali\, artistici e commerciali\, dedicata ad alcuni dei
  principali Paesi asiatici con cui Roma e l’Italia vantano solidi rapporti
 : Thailandia\, Giappone\, India\, Vietnam e Cina.\nL’evento mira a present
 are l’Asia sotto varie prospettive\, con un focus dedicato al commercio\, 
 all’innovazione\, alla cultura\, al turismo e all’arte\, in collaborazione
  con alcune Ambasciate asiatiche presenti in Italia\, il Comune di Roma\, 
 il Ministero degli Esteri e con il supporto della Camera di Commercio di R
 oma.\nDi seguito il Programma dell’evento:\n9:30 Welcome coffee\n10:00 Ape
 rtura e saluti istituzionali Comune di RomaSindaco Roberto Gualtieri (da c
 onfermare)Assessore al Commercio Valerio OnoratoAssessora al Turismo Monic
 a LucarelliOn. Francesca Leoncini\, Presidente del Progetto “Il Campidogli
 o incontra l’Asia”On. Valerio CasiniMinistero degli Affari esteri – Rappre
 sentanteAmbasciatori in Italia di Cina\, Giappone\, Thailandia\, Vietnam\,
  India\n11:00 Cultura e tradizioneDiego Maiorano- Professore di Storia con
 temporanea dell’India – Università degli Studi di Napoli L’OrientaleLibera
 to Mirenna – Presidente World Intercultural Organization\n11:30 Turismo\, 
 agricoltura e sostenibilitàValeria Minghetti – Responsabile area ricerca C
 entro Nazionale di Studi sull’Economia TuristicaElia Rosciano – Presidente
  Federazione Associazioni Ricettività ExtralberghieraVeronica Tasciotti – 
 Event Manager Tourism Destination WeddingFabio Borghese – Senior EVP Inter
 national Expansion di Arsenale Spa GroupElena Ma Jun – Presidente Associaz
 ione Internazionale Turismo Culturale BEIDIXu Zhongling – Direttore studio
  legale YingkeLivio Mazzanti – Export Manager Marchesi Mazzei\n12:30 Light
  lunch gastronomico\n14:00 Innovazione e commercioGiancarlo Sestini – Foun
 der Mediterranea spaClaudia Torrisi – Presidente Impresa Donna Confesercen
 ti Roma e Lazio e e Membro del Comitato Imprenditoria Femminile Camera di 
 Commercio di RomaLilly Fazio – Vicepresidente di Assovini Sicilia e compon
 ente nazionale gruppo “Le donne del vino”Sabrina Di Giorgio – Head of Publ
 ic Affairs for Insurance Regions Gruppo GeneraliLorenzo Riccardi – Preside
 nte Camera Commercio Italia-Cina (viaZoomdaShangai)Nicola Alessandro Cieri
  – Asia Councile RsA AsiaMatteo Adinolfi – Membro Commissioni Industria\, 
 Controllo di Bilancio Regioni\n15:30 Arte contemporanea e MultilinguaggioH
 u Lambo – Scrittrice ed editrice Cina in ItaliaMassimo Saretta – Fotorepor
 ter certified by Leica autore di Contrasti AsiaticiSandro Di Stefano – Com
 positore e direttore d’orchestra per il cinema internazionale\n16:00 Concl
 usioni e prospettive futurea cura di Incandenza\n18:00 Fine lavori\nPer in
 fo e registrazione scrivere a incandenza@incandenza.it https://www.takethe
 date.it/tutti-gli-eventi/Eventi/45833-il-campidoglio-incontra-lasia.html
DTSTART:20250314T083000Z
DTEND:20250314T173000Z
LOCATION: ()
SUMMARY:Il Campidoglio incontra l’Asia
URL:https://www.takethedate.it/tutti-gli-eventi/Eventi/45833-il-campidoglio
 -incontra-lasia.html
END:VEVENT
END:VCALENDAR
