BEGIN:VCALENDAR
VERSION:2.0
PRODID:-//https://www.takethedate.it///NONSGML kigkonsult.se iCalcreator 2.10.15//
METHOD:PUBLISH
BEGIN:VEVENT
UID:20260422T120917CEST-00337Vnde9@https://www.takethedate.it/
DTSTAMP:20260422T100917Z
DESCRIPTION:Riparte il viaggio ASSOAMBIENTE per la sostenibilità con l'ediz
 ione 2025 di Impianti Aperti on the road. \nIl 21 Febbraio  per la Prima T
 appa del nostro viaggio saremo in Puglia presso lo Stabilimento TECHEMET  
 di Guagnano in provincia di Lecce. In aggiunta ai Patrocini del MASE e ISP
 RA ricevuti da ASSOAMBIENTE per l'intera campagna 2025 di Impianti Aperti 
 on The Road\, l'Associazione per questa prima tappa ha richiesto ed ottenu
 to il Patrocinio della Regione Puglia\, della Provincia di Lecce\, del Com
 une di Guagnano e di ECOMONDO. Il Programma dell'iniziativa è scaricabile 
 in allegato. \nL'evento dal titolo “IL FUTURO DELLE CRM. Problemi nazional
 i\, soluzioni internazionali” realizzato in collaborazione con ECOEURO e c
 on la Partnership di Ricicla.tv sarà preceduto dalla visita allo stabilime
 nto con inizio alle ore 9.00. Per motivi organizzativi è possibile prenota
 re il turno della visita (quattro turni a partire dalle ore 9.00). \nPer r
 egistrare la partecipazione all'evento e prenotare il turno alla visita de
 llo stabilimento clicca qui. https://www.takethedate.it/tutti-gli-eventi/E
 venti/45348-impianti-aperti-on-the-road-prima-tappa-techemet.html
DTSTART:20250221T080000Z
DTEND:20250221T123000Z
LOCATION:Guagnano (Guagnano\, Lecce)
SUMMARY:Impianti Aperti on the Road | Prima Tappa TECHEMET
URL:https://www.takethedate.it/tutti-gli-eventi/Eventi/45348-impianti-apert
 i-on-the-road-prima-tappa-techemet.html
END:VEVENT
END:VCALENDAR
