BEGIN:VCALENDAR
VERSION:2.0
PRODID:-//https://www.takethedate.it///NONSGML kigkonsult.se iCalcreator 2.10.15//
METHOD:PUBLISH
BEGIN:VEVENT
UID:20260424T120253CEST-59737xZNmV@https://www.takethedate.it/
DTSTAMP:20260424T100253Z
DESCRIPTION:Sarà presentato venerdi 24 gennaio alle ore 11.00\, presso il C
 ircolo del Tennis del Foro Italico di Roma\, il 'Rapporto Sport 2024' reda
 tto da Sport e Salute e dall'Istituto per il Credito Sportivo e Culturale.
 Il Rapporto Sport 2024 rappresenta l'analisi sul sistema sportivo italiano
 \, basata su dati di qualità\, fonti ufficiali e metodologia certificata e
  che avrà tre focus principali: il 'PIL dello sport'\, la 'Domanda-Offerta
  di Sport in Italia' e gli 'Investimenti e l'impatto sociale nello Sport'.
 \nA presentare il Rapporto Sport 2024 saranno il Ministro per lo Sport e i
  Giovani\, Andrea Abodi\, il Presidente di Sport e Salute\, Marco Mezzarom
 a ed il Presidente dell'Istituto per il Credito Sportivo e Culturale\, Ben
 iamino Quintieri.Sono previsti anche gli interventi di Giovanni Malagò\, P
 residente del CONI\, e di Luca Pancalli\, Presidente del Comitato Italiano
  Paralimpico. https://www.takethedate.it/tutti-gli-eventi/Eventi/44979-rap
 porto-sport-2024.html
DTSTART:20250124T100000Z
DTEND:20250124T120000Z
LOCATION: ()
SUMMARY:Rapporto Sport 2024
URL:https://www.takethedate.it/tutti-gli-eventi/Eventi/44979-rapporto-sport
 -2024.html
END:VEVENT
END:VCALENDAR
