BEGIN:VCALENDAR
VERSION:2.0
PRODID:-//https://www.takethedate.it///NONSGML kigkonsult.se iCalcreator 2.10.15//
METHOD:PUBLISH
BEGIN:VEVENT
UID:20260423T122235CEST-9695fXnn5s@https://www.takethedate.it/
DTSTAMP:20260423T102235Z
DESCRIPTION:Si discuterà di Sanità e Isole minori nell’incontro dal titolo 
 “Il pensiero divergente nella costruzione della sanità nelle Isole minori”
 \, che avrà luogo nell’isola di Favignana\, presso la Sala convegni dell’e
 x stabilimento Florio\, nei giorni 11 e 12 ottobre 2024. L’evento vede il 
 patrocinio dell’Eurispes nonché la partecipazione del Prof. Aldo Berlingue
 r\, Presidente dell’Osservatorio Insularità ed aree interne del nostro Ist
 ituto.\nI lavori avranno inizio alle ore 14\,30 con i saluti del Sindaco F
 rancesco Forgione e di Ferdinando Croce\, Presidente ANCIM. La prima sessi
 one è intitolata “Le sinergie virtuose: organizzazione\, competenze\, tecn
 ologie”. La seconda sessione del sabato\, presieduta da Massimiliano Maisa
 no\, è invece dedicata a “Rilettura dei contesti e valorizzazione della eq
 uità del SSN”. Il Prof. Berlinguer interverrà nel dibattito dedicato a “La
  fragilità come elemento sistemico nelle Isole minori nelle Isole minori”.
  La chiusura dei lavori è affidata all’intervento del Ministro per la prot
 ezione civile e per le politiche del mare\, Nello Musumeci.\nQui il progra
 mma completo https://www.takethedate.it/tutti-gli-eventi/Eventi/43667-il-p
 ensiero-divergente-nella-costruzione-della-sanita-nelle-isole-minori.html
DTSTART:20241011T123000Z
DTEND:20241012T113000Z
LOCATION:Favignana (Isola di Favignana)
SUMMARY:Il pensiero divergente nella costruzione della sanità nelle Isole m
 inori
URL:https://www.takethedate.it/tutti-gli-eventi/Eventi/43667-il-pensiero-di
 vergente-nella-costruzione-della-sanita-nelle-isole-minori.html
END:VEVENT
END:VCALENDAR
