BEGIN:VCALENDAR
VERSION:2.0
PRODID:-//https://www.takethedate.it///NONSGML kigkonsult.se iCalcreator 2.10.15//
METHOD:PUBLISH
BEGIN:VEVENT
UID:20260422T224908CEST-6671hlVHuu@https://www.takethedate.it/
DTSTAMP:20260422T204908Z
DESCRIPTION:Evento di lancio\nPresso il Ministero della Salute – Auditorium
  “Cosimo Piccinno”\, Lungotevere RipaInterverrà il Ministro della Salute O
 razio Schillaci\nPROGRAMMAPrima Parte – Interventi Istituzionali\nMinistro
  della Salute prof. ORAZIO SCHILLACI – Saluti istituzionaliSen.FRANCESCO Z
 AFFINI – Presidente Commissione X° Senato\;Avv. MARINA CONDOLEO – Presenta
 zione “Legal love”Prof. VITO TROJANO – Presidente Società Italiana Ginecol
 ogia e ostetriciaDr. TOMMASO CAI – Segretario Generale della Società Itali
 ana di Andrologia Seconda Parte – Approfondimento ai temi\nDott. ANTONIO P
 IETROBATTISTA ospedale Bambino Gesù di Roma\, specialista in ortodonzia e 
 ortopedia dento-maxillo-facciale ( Danni fisici e psicologici dell’uso e a
 buso delle droghe)Avv. FRANCESCO NOTARI presidente di Vis Romana ( I risch
 i penali dei comportamenti illegali)Dott. LUCA LEONARDO D’AGOSTINI special
 izzato in indagini per il controllo dei minori e stalking nonché in cyberb
 ullismo (Le condotte antisociali in rete)Dott.ssa ANTONELLA OLIVERIO respo
 nsabile comunicazioni BMTI (La borsa della spesa giovanile)Dott.ssa FRANCE
 SCA BARBATO – Consigliere Roma Capitale (L’educazione istituzionale nelle 
 nuove generazioni)Dott.ssa BARBARA MOLINARIO – Presidente Road to green 20
 20 (Il dialogo e la comunicazione tra le istituzioni le nuove generazioni)
  https://www.takethedate.it/tutti-gli-eventi/Eventi/40956-evento-di-lancio
 -legal-love.html
DTSTART:20240301T090000Z
DTEND:20240301T120000Z
LOCATION:Auditorium 'Cosimo Piccinno' - Ministero della Salute (Lungotevere
  Ripa 1\, Roma )
SUMMARY:Evento di lancio “Legal Love”
URL:https://www.takethedate.it/tutti-gli-eventi/Eventi/40956-evento-di-lanc
 io-legal-love.html
END:VEVENT
END:VCALENDAR
