BEGIN:VCALENDAR
VERSION:2.0
PRODID:-//https://www.takethedate.it///NONSGML kigkonsult.se iCalcreator 2.10.15//
METHOD:PUBLISH
BEGIN:VEVENT
UID:20260423T103925CEST-38518s3wGD@https://www.takethedate.it/
DTSTAMP:20260423T083925Z
DESCRIPTION:Il prossimo 12 dicembre\, alle ore 15:00\, partecipa al webinar
  di approfondimento dell'iniziativa “Sostegno alle PMI lombarde per lo svi
 luppo di azioni di economia circolare – Edizione dedicata alle filiere del
 la plastica e del tessile”. Il Dott. Giorgio Gallina di Regione Lombardia 
 interverrà all'evento per presentare i dettagli della misura e rispondere 
 alle domande dei partecipanti.\nQuesta iniziativa\, promossa dalla Regione
  Lombardia\, mette a disposizione 5 milioni di euro per agevolare le picco
 le e medie imprese (PMI) della regione nell'adozione di pratiche di econom
 ia circolare\, con l'obiettivo finale di ottenere una riduzione significat
 iva e una gestione più efficiente dei rifiuti nelle filiere della plastica
  e del tessile.\nL’agevolazione viene concessa sotto forma di sovvenzione 
 a fondo perduto\, coprendo fino al 50% delle spese ammissibili\, con la po
 ssibilità di un incremento al 60% per progetti particolarmente meritevoli.
 \nCLICCA QUI PER ISCRIVERTI AL WEBINAR\nDurante l'evento\, verrà presentat
 o anche il progetto europeo Syschemiq\, di cui LE2C è partner. Questo prog
 etto mira ad aumentare il riciclo e il riuso della plastica\, adottando un
  approccio sistemico che coinvolge tutte le fasi della catena del valore e
  diversi stakeholder. L'obiettivo finale è la creazione di distretti urban
 o-industriali dedicati alla plastica.\nUn'opportunità da non perdere per l
 e imprese lombarde interessate a innovare e contribuire all'economia circo
 lare e alla gestione sostenibile delle risorse.\nRegistrati ora al webinar
  https://www.takethedate.it/tutti-gli-eventi/Eventi/39794-sostegno-alle-pm
 i-lombarde-per-lo-sviluppo-di-azioni-di-economia-circolare-nelle-filiere-d
 ella-plastica-e-del-tessile.html
DTSTART:20231212T140000Z
DTEND:20231212T160000Z
LOCATION:evento online  ()
SUMMARY:Sostegno alle PMI lombarde per lo sviluppo di azioni di economia ci
 rcolare nelle filiere della plastica e del tessile
URL:https://www.takethedate.it/tutti-gli-eventi/Eventi/39794-sostegno-alle-
 pmi-lombarde-per-lo-sviluppo-di-azioni-di-economia-circolare-nelle-filiere
 -della-plastica-e-del-tessile.html
END:VEVENT
END:VCALENDAR
