BEGIN:VCALENDAR
VERSION:2.0
PRODID:-//https://www.takethedate.it///NONSGML kigkonsult.se iCalcreator 2.10.15//
METHOD:PUBLISH
BEGIN:VEVENT
UID:20260422T100417CEST-7417ljNiuj@https://www.takethedate.it/
DTSTAMP:20260422T080417Z
DESCRIPTION:La terza edizione di Energyear Italia si terrà a Milano il 18-1
 9 ottobre. Questo congresso chiave per l'industria italiana delle energie 
 rinnovabili riunirà più di 650 decision-maker\, che avranno l'opportunità 
 di esplorare le opportunità di business nel settore delle energie rinnovab
 ili\,\nDurante l'incontro\, esperti e leader del settore discuteranno le s
 fide e le opportunità offerte dal mercato delle energie rinnovabili in Ita
 lia. Si parlerà anche delle ultime tendenze e innovazioni del settore\, co
 mpresi gli sviluppi nel campo dell'energia solare\, dello stoccaggio e del
 l'idrogeno verde.\nDue giorni di tavole rotonde in cui Istituzioni\, Azien
 de leader\, Rappresentanti Regionali\, Esperti di tecnologia\, Fondi di in
 vestimento\, Consulenti finanziari\, Studi legali\, ecc. condivideranno co
 noscenze ed esperienze per incoraggiare e ispirare lo sviluppo delle energ
 ie rinnovabili nel Mercato italiano.\nOltre ai dibattiti e alle conferenze
 \, Energyear Italia sarà anche una piattaforma per stabilire connessioni e
  contatti con altri professionisti del settore in uno spazio specifico per
  il networking\, in modo che i partecipanti possano interagire e stabilire
  contatti con altri professionisti del settore. https://www.takethedate.it
 /tutti-gli-eventi/Eventi/38610-energyear-italia-2023.html
DTSTART:20231018T070000Z
DTEND:20231019T160000Z
LOCATION: ()
SUMMARY:Energyear Italia 2023
URL:https://www.takethedate.it/tutti-gli-eventi/Eventi/38610-energyear-ital
 ia-2023.html
END:VEVENT
END:VCALENDAR
