BEGIN:VCALENDAR
VERSION:2.0
PRODID:-//https://www.takethedate.it///NONSGML kigkonsult.se iCalcreator 2.10.15//
METHOD:PUBLISH
BEGIN:VEVENT
UID:20260419T144640CEST-2265Dbg0vS@https://www.takethedate.it/
DTSTAMP:20260419T124640Z
DESCRIPTION:Il processo di reingegnerizzazione dei sistemi doganali è la pr
 incipale sfida che il mondo doganale è chiamato ad affrontare con l’obiett
 ivo di rendere sempre più fluidi\, veloci e sicuri gli scambi commerciali.
 \nAl fine di condividere lo stato di avanzamento dei processi di digitaliz
 zazione doganale e di promuoverne obiettivo\, valori e benefici per la com
 petitività di operatori\, imprese e del sistema-Paese\, la Federazione org
 anizza il Convegno “AIDA 2.0: funzionalità dei nuovi tracciati e del casse
 tto doganale” che si terrà il prossimo 22 marzo (11.30-13.00) presso la se
 de dell’Università degli Studi dell’Insubria di Como.\nL’evento è promosso
  in collaborazione con il Centro Studi di diritto doganale e del commercio
  internazionale dell’Università degli Studi dell’Insubria\, di cui Fedespe
 di è partner.\nAd aprire i lavori sarà il Presidente del Customs & Tax Adv
 isory Body\, Domenico de Crescenzo.\nIl programma dei lavori\, che saranno
  moderati da Vincenzo Rovelli (Vicepresidente del Customs & Tax Avisory Bo
 dy) prevede gli interventi di:\nLaura Castellani\, Direttore Organizzazion
 e e Digital Transformation – Agenzia delle Dogane | “Il processo di digita
 lizzazione dei sistemi import\, export e transito: avanzamento lavori”Prof
 . Fabrizio Vismara\, Direttore del Centro Studi di diritto doganale e del 
 commercio internazionale | “Dalla bolla doganale ai nuovi tracciati inform
 atici”Paolo Massari\, Customs & International Trade Advisor\, C-Trade | “F
 unzionalità e utilizzo del cassetto doganale“ https://www.takethedate.it/t
 utti-gli-eventi/Eventi/36413-aida-2-0-funzionalita-dei-nuovi-tracciati-e-d
 el-cassetto-doganale.html
DTSTART:20230322T103000Z
DTEND:20230322T120000Z
LOCATION:evento online  ()
SUMMARY:AIDA 2.0: funzionalità dei nuovi tracciati e del cassetto doganale
URL:https://www.takethedate.it/tutti-gli-eventi/Eventi/36413-aida-2-0-funzi
 onalita-dei-nuovi-tracciati-e-del-cassetto-doganale.html
END:VEVENT
END:VCALENDAR
