BEGIN:VCALENDAR
VERSION:2.0
PRODID:-//https://www.takethedate.it///NONSGML kigkonsult.se iCalcreator 2.10.15//
METHOD:PUBLISH
BEGIN:VEVENT
UID:20260420T225855CEST-2406SrJFVr@https://www.takethedate.it/
DTSTAMP:20260420T205855Z
DESCRIPTION:ROMA - Le imprese italiane proseguono il loro cammino verso la 
 transizione sostenibile\, la sensibilità degli imprenditori si fa sempre p
 iù marcata\, ma il caro energia e l’impennata dell’inflazione rallentano l
 a corsa. Gli extra costi stanno infatti paralizzando gli investimenti di m
 olte realtà produttive che decidono di ritardare la conversione green di i
 mpianti e processi\, pur di far quadrare i conti.\nÈ quanto emerge dal VI°
  Osservatorio Sostenibilità & Comunicazione\, realizzato da Format Researc
 h e promosso da Mediatyche e Homina\, i cui risultati in dettaglio saranno
  presentati martedì 21 febbraio presso la sala Matteotti\, palazzo Theodol
 i-Bianchelli\, Camera dei Deputati\, a partire dalle ore 10.\nInterverrann
 o\n• Massimiliano Valerii\, direttore del Censis\n• On. Sergio Costa\, vic
 epresidente della Camera dei Deputati (M5S)\n• On. Luca Squeri\, deputato 
 Forza Italia \n• On. Stefano Vaccari\, deputato Partito Democratico https:
 //www.takethedate.it/tutti-gli-eventi/Eventi/35898-osservatorio-sostenibil
 ita-e-comunicazione.html
DTSTART:20230221T090000Z
DTEND:20230221T110000Z
LOCATION:Palazzo Theodoli Bianchelli (Piazza del Parlamento 19\, Roma)
SUMMARY:Osservatorio Sostenibilità e Comunicazione
URL:https://www.takethedate.it/tutti-gli-eventi/Eventi/35898-osservatorio-s
 ostenibilita-e-comunicazione.html
END:VEVENT
END:VCALENDAR
