BEGIN:VCALENDAR
VERSION:2.0
PRODID:-//https://www.takethedate.it///NONSGML kigkonsult.se iCalcreator 2.10.15//
METHOD:PUBLISH
BEGIN:VEVENT
UID:20260419T233810CEST-8950mivBFc@https://www.takethedate.it/
DTSTAMP:20260419T213810Z
DESCRIPTION:FIRE\, nell’ambito del progetto DEESME\, organizza un webinar g
 ratuito\, della durata di circa 90 minuti rivolto alle piccole e medie imp
 rese nel quale si condivideranno alcuni spunti per affrontare al meglio qu
 esta fase di aumento dei prezzi dell’energia grazie ad iniziative e buone 
 pratiche di efficientamento energetico. Questa sessione può essere di part
 icolare interesse per quelle aziende che stanno affrontando delle difficol
 tà in questa fase.\nL’appuntamento è il 27 maggio 2022 dalle ore 10:00 all
 e ore 11:30\, per partecipare è sufficiente compilare il fom al link: http
 s://attendee.gotowebinar.com/register/6837541078929536013 https://www.take
 thedate.it/tutti-gli-eventi/Eventi/32130-lefficienza-energetica-uno-strume
 nto-per-affrontare-il-caro-energia-nelle-pmi.html
DTSTART:20220527T080000Z
DTEND:20220527T093000Z
LOCATION:evento online  ()
SUMMARY:L’efficienza energetica: uno strumento per affrontare il caro energ
 ia nelle PMI
URL:https://www.takethedate.it/tutti-gli-eventi/Eventi/32130-lefficienza-en
 ergetica-uno-strumento-per-affrontare-il-caro-energia-nelle-pmi.html
END:VEVENT
END:VCALENDAR
