BEGIN:VCALENDAR
VERSION:2.0
PRODID:-//https://www.takethedate.it///NONSGML kigkonsult.se iCalcreator 2.10.15//
METHOD:PUBLISH
BEGIN:VEVENT
UID:20260422T194906CEST-8273LVz69S@https://www.takethedate.it/
DTSTAMP:20260422T174906Z
DESCRIPTION:Il settore del Real Estate è destinato ad avere un ruolo sempre
  più centrale nello sviluppo economico e sociale del nostro Paese e non so
 lo. Il focus sarà sempre di più sui temi legati alla sostenibilità\, l’inn
 ovazione tecnologica\, la rigenerazione urbana e la flessibilità.L’appunta
 mento sarà un momento di incontro di alto livello\, caratterizzato per con
 tenuti e qualità degli speakers\, rivolto ai principali decision makers de
 l settore immobiliare e finanziario legato al Real Estate.Il programma del
 la giornata\n09.30Apertura dei lavori a cura diFabio Tamburini\, Direttore
  Il Sole 24 Ore09.35Rialzo dei tassi Bce\, inflazione record\, recessione\
 , guerra e sanzioni\, Covid: e’ in arrivo una tempesta perfetta?Vítor Cons
 tâncio\, President of the Council of the Lisbon School of Economics and Ma
 nagement\nin conversazione conIsabella Bufacchi\, Giornalista Il Sole 24 O
 re10.15LA SFIDA DEGLI INVESTIMENTI IN UN CONTESTO IN EVOLUZIONE: ALL’ORIZZ
 ONTE UN RALLENTAMENTO O LA CRISI?Modera: Paola Dezza\, Giornalista Il Sole
  24 Ore\nMario Abbadessa\, Senior Managing Director & Country Head of Hine
 s Italy Andrea Orlandi\, Managing Director CPP Investment Samuele Cappelle
 tti\, Managing Director\, Apollo Global Management LP James Seppala\, Head
  of Real Estate for Europe Blackstone Aldo Mazzocco\, CEO e General Manage
 r Generali Real Estate11.05IL MERCATO ITALIANO TRA COMPRESSIONE DEI RENDIM
 ENTI E STOCK IN FASE DI VALORIZZAZIONE: QUANDO E COME CONVIENE INVESTIRE?M
 odera: Paola Dezza\, Giornalista Il Sole 24 Ore\nNe discutonoOfer Arbib\, 
 CEO di Colliers Global Investors Italy SGR Giuseppe Amitrano\, CEO Dils Al
 essandro Mazzanti CEO CBRE Joachim Sandberg\, CEO Cushman&Wakefield11.45IL
  FINANZIAMENTO ALLE OPERAZIONI\, NUOVE FRONTIERE – LEGATE ANCHE AL TEMA SV
 ILUPPO – E NUOVI TRENDModera: Marco Ferrando\, Caporedattore Responsabile 
 Sezione Finanza e Mercati Il Sole 24 Ore\nNe discutonoPaolo Bellacosa\, Ma
 naging Director Eastdil Secured Lorenzo Vianello\, Senior Banker Real Esta
 te UniCredit12.25Conclusione a cura diEmanuela Recchi\, Presidente ULI Ita
 lia12.35Chiusura dei lavori https://www.takethedate.it/tutti-gli-eventi/Ev
 enti/31992-real-estate-finance-summit.html
DTSTART:20220524T073000Z
DTEND:20220524T103000Z
LOCATION:evento online  ()
SUMMARY:Real Estate & Finance Summit
URL:https://www.takethedate.it/tutti-gli-eventi/Eventi/31992-real-estate-fi
 nance-summit.html
END:VEVENT
END:VCALENDAR
