BEGIN:VCALENDAR
VERSION:2.0
PRODID:-//https://www.takethedate.it///NONSGML kigkonsult.se iCalcreator 2.10.15//
METHOD:PUBLISH
BEGIN:VEVENT
UID:20260423T115311CEST-88467o2ji7@https://www.takethedate.it/
DTSTAMP:20260423T095311Z
DESCRIPTION: https://www.takethedate.it/tutti-gli-eventi/Eventi/27784-il-mo
 ndo-del-lavoro-post-covid-19-scenari-ed-exit-strategy.html
DTSTART:20210728T153000Z
DTEND:20210728T163000Z
LOCATION:evento online  ()
SUMMARY:Il mondo del lavoro post-Covid 19\, scenari ed exit strategy
URL:https://www.takethedate.it/tutti-gli-eventi/Eventi/27784-il-mondo-del-l
 avoro-post-covid-19-scenari-ed-exit-strategy.html
END:VEVENT
END:VCALENDAR
