BEGIN:VCALENDAR
VERSION:2.0
PRODID:-//https://www.takethedate.it///NONSGML kigkonsult.se iCalcreator 2.10.15//
METHOD:PUBLISH
BEGIN:VEVENT
UID:20260423T134105CEST-8149t8GNJD@https://www.takethedate.it/
DTSTAMP:20260423T114105Z
DESCRIPTION:Dopo un anno di pandemia\, buona parte del mondo si trova ancor
 a di fronte a un’emergenza estremamente complessa\nda gestire. Che cosa è 
 possibile imparare dagli altri paesi europei e non\, e che cosa è ancora p
 ossibile fare? Quali sono gli errori che derivano da scelte passate e qual
 i invece dalla gestione dell’emergenza?\nDi questo parlerà Luca Ricolfi\, 
 Professore presso l’Università di Torino.\nIn un mondo che cambia sempre p
 iù rapidamente\, il Programma “Future Leaders” oﬀre a giovani talenti con 
 meno di 40 anni e un forte interesse per le tematiche internazionali occas
 ioni di approfondimento e dibattito su alcuni trend di lungo periodo che i
 nﬂuenzeranno in modo signiﬁcativo gli scenari internazionali.\nLa partecip
 azione è ristretta. Per informazioni sulla possibilità di aderire contatta
 re ispiperleimprese@ispionline.it. https://www.takethedate.it/tutti-gli-ev
 enti/Eventi/25970-pandemia-e-gestione-dellemergenza-quali-lezioni-per-il-f
 uturo.html
DTSTART:20210419T163000Z
DTEND:20210419T173000Z
LOCATION:evento online  ()
SUMMARY:Pandemia e gestione dell’emergenza: quali lezioni per il futuro?
URL:https://www.takethedate.it/tutti-gli-eventi/Eventi/25970-pandemia-e-ges
 tione-dellemergenza-quali-lezioni-per-il-futuro.html
END:VEVENT
END:VCALENDAR
