BEGIN:VCALENDAR
VERSION:2.0
PRODID:-//https://www.takethedate.it///NONSGML kigkonsult.se iCalcreator 2.10.15//
METHOD:PUBLISH
BEGIN:VEVENT
UID:20260421T151804CEST-391669VcnR@https://www.takethedate.it/
DTSTAMP:20260421T131804Z
DESCRIPTION:Siamo alle porte di una nuova grande trasformazione destinata a
  produrre una mutazione profonda e trasversale nella società e nelle organ
 izzazioni aziendali.Da un lato\, si va profilando una Jobless Society\, in
  cui ogni tipo di lavoro umano potrà essere sostituito da quello di una ma
 cchina fino a ritenere immaginabile un lavoro senza l’uomo.Dall’altro lato
 \, si va configurando una Total Job Society in cui emergono nuovi tipi di 
 lavoro che non si svolgono in luoghi definiti e in tempi definiti e per i 
 quali la relazione tra prestazione e remunerazione dovrà essere completame
 nte rinegoziata.In presenza di uno scenario così contrastato è necessario 
 interrogarsi su quali siano concretamente gli spazi per l’azione umana e s
 u come sia possibile\, facendo leva sulla creatività\, il pensiero critico
 \, l’intelligenza emotiva e il talento\, confermare la centralità del capi
 tale umano.\n16.30 Registrazione16.45 Saluti e introduzioneRaffaele Secchi
  ( Dean LIUC Business School )Seminar su Capitale Umano e…17.00 Processi e
  Tecnologie17.30 Gestione del cambiamento18.00 Governance18.30 Megatrend19
 .00 Aperitivo\nL’evento nasce dalla stretta collaborazione con l’associazi
 one LIUC Alumni\, il cui obiettivo principale è quello di creare e mantene
 re un network fra i laureati LIUC\, favorendo così lo sviluppo di preziose
  relazioni tra LIUC e il sistema aziendale e associativo italiano ed inter
 nazionale. https://www.takethedate.it/tutti-gli-eventi/Eventi/2415-jobless
 -total-job-society-quali-spazi-per-lazione-umana.html
DTSTART:20180125T153000Z
DTEND:20180125T180000Z
LOCATION:LIUC Business School (Piazza Soldini 5\, Castellanza)
SUMMARY:JOBLESS/TOTAL JOB SOCIETY. Quali spazi per l’azione umana?
URL:https://www.takethedate.it/tutti-gli-eventi/Eventi/2415-jobless-total-j
 ob-society-quali-spazi-per-lazione-umana.html
END:VEVENT
END:VCALENDAR
