BEGIN:VCALENDAR
VERSION:2.0
PRODID:-//https://www.takethedate.it///NONSGML kigkonsult.se iCalcreator 2.10.15//
METHOD:PUBLISH
BEGIN:VEVENT
UID:20260423T121643CEST-3493A6ld3f@https://www.takethedate.it/
DTSTAMP:20260423T101643Z
DESCRIPTION:Il termine incontinenza urinaria (UI) comprende in modo generic
 o tutti i tipi di perdite involontarie di urina che si verificano improvvi
 samente\, in genere a seguito di un piccolo sforzo\, di un colpo di tosse 
 o di un’attività.Esistono però diverse manifestazioni di questo disturbo c
 ome l’incontinenza urinaria da sforzo\, l’incontinenza urinaria mista\, l’
 incontinenza urinaria da urgenza\, e molte altre forme. Questa condizione 
 non sempre è spia di patologia\, malgrado costituisca un problema imbarazz
 ante\, igienico e relazionale con profonde ricadute anche in ambito socio 
 assistenziale e terapeutico. Dati di letteratura evidenziano infatti come 
 il 57\,2% delle persone affette tende a non manifestare tale disturbo e so
 lo il 25% si rivolge ad un medico. Ma ben più importante è il fatto che la
  UI può influenzare significativamente il benessere psicologico di chi ne 
 soffre determinando\, nelle forme più gravi\, isolamento e sentimenti di i
 nferiorità.Non tutte le forme di UI sono uguali\, così come diverse sono a
 nche le cause di quella maschile e di quella femminile\, dell’incontinenza
  nei bambini e nelle persone anziane. E’ comunque un sintomo che accomuna 
 un numero piuttosto consistente di malattie o condizioni fisiologiche. In 
 menopausa\, per fare un esempio\, la donna subisce trasformazioni fisiche 
 anche a livello vescicale\, per cui può lamentare il sintomo. L’UI rappres
 enta anche la sindrome geriatrica più frequente con un 39% nei pazienti se
 guiti in ADI (come indicato nell’indagine 2018 di Italia Longeva) mentre s
 econdo stime relative al 2016 di Federanziani\, gli adulti (età maggiore d
 i 18 anni) affetti in Italia erano circa 4\,5 milioni. Tutto ciò oltre all
 a gestione di terapie specifiche necessita spesso dell’uso di ausili come 
 i pannoloni\, di una attenzione socio- sanitaria\, di un impegno economico
  con impatto importante sui costi assistenziali del SSN e sui costi di ges
 tione familiari. Secondo un recente studio la spesa ipotizzata per i soli 
 ausili ammonterebbe nel 2020 a oltre 320.000.000.Il trattamento dell’UI di
 pende quindi dalla causa che ne sta all’origine\, oltre che dalla gravità 
 della condizione\, dall’età del soggetto e dalla tipologia di incontinenza
 . Ad esempio\, quella da sforzo non sempre necessita di terapia farmacolog
 ica\, mentre la forma derivata da un’instabilità del muscolo detrusore\, l
 ’incontinenza da stress\, l’incontinenza da urgenza\, necessitano di terap
 ie farmacologiche a cui si possono aggiungere esercizi da praticare di tip
 o conservativo. Alcuni approcci terapeutici sono ottimali per gli uomini\,
  mentre altri per le donne. Le terapie comportano a secondo del tipo di in
 continenza l’uso di estrogeni (ad applicazione topica)\, anticolinergici\,
  imipramina e SSRI\, antidepressivi e antimuscarinici.L’obiettivo di ogni 
 trattamento per consiste nel migliorare la qualità di vita del paziente e 
 nella maggior parte dei casi\, è possibile ottenere grandi miglioramenti e
  la risoluzione dei sintomi. https://www.takethedate.it/tutti-gli-eventi/E
 venti/21548-incontinenza-urinaria-risvolti-sociali-e-terapeutici.html
DTSTART:20200916T063000Z
DTEND:20200916T110000Z
LOCATION:evento online  ()
SUMMARY:Incontinenza urinaria risvolti sociali e terapeutici
URL:https://www.takethedate.it/tutti-gli-eventi/Eventi/21548-incontinenza-u
 rinaria-risvolti-sociali-e-terapeutici.html
END:VEVENT
END:VCALENDAR
