BEGIN:VCALENDAR
VERSION:2.0
PRODID:-//https://www.takethedate.it///NONSGML kigkonsult.se iCalcreator 2.10.15//
METHOD:PUBLISH
BEGIN:VEVENT
UID:20260421T172219CEST-23290dLdFJ@https://www.takethedate.it/
DTSTAMP:20260421T152219Z
DESCRIPTION:Il Corso\, giunto quest’anno alla sua IV edizione\, si articola
  in una serie di 7 incontri a tematica multidisciplinare\, che si terranno
  ogni venerdì dalle ore 14:30 alle ore 17:30\, attraverso la piattaforma G
 oToWebinar a partire dal 25 settembre 2020. Durante il corso i partecipant
 i potranno accedere alla documentazione relativa a ciascuna lezione attrav
 erso il sito dell’Associazione\n  https://www.takethedate.it/tutti-gli-eve
 nti/Eventi/21364-migrazioni-integrazione-e-democrazia-profili-giuridici-so
 ciali-e-culturali.html
DTSTART:20200925T123000Z
DTEND:20200925T153000Z
LOCATION:evento online  ()
SUMMARY:Migrazioni integrazione e democrazia. Profili giuridici\, sociali e
  culturali
URL:https://www.takethedate.it/tutti-gli-eventi/Eventi/21364-migrazioni-int
 egrazione-e-democrazia-profili-giuridici-sociali-e-culturali.html
END:VEVENT
END:VCALENDAR
