BEGIN:VCALENDAR
VERSION:2.0
PRODID:-//https://www.takethedate.it///NONSGML kigkonsult.se iCalcreator 2.10.15//
METHOD:PUBLISH
BEGIN:VEVENT
UID:20260422T211450CEST-1013uwbwAe@https://www.takethedate.it/
DTSTAMP:20260422T191450Z
DESCRIPTION:1 ottobre ore 10:30-12:30\nI criteri ambientali minimo (CAM) e 
 le certificazioni possibili https://www.takethedate.it/tutti-gli-eventi/Ev
 enti/21336-i-criteri-ambientali-minimo-cam-e-le-certificazioni-possibili.h
 tml
DTSTART:20201001T083000Z
DTEND:20201001T103000Z
LOCATION:evento online  ()
SUMMARY:I criteri ambientali minimo (CAM) e le certificazioni possibili
URL:https://www.takethedate.it/tutti-gli-eventi/Eventi/21336-i-criteri-ambi
 entali-minimo-cam-e-le-certificazioni-possibili.html
END:VEVENT
END:VCALENDAR
