BEGIN:VCALENDAR
VERSION:2.0
PRODID:-//https://www.takethedate.it///NONSGML kigkonsult.se iCalcreator 2.10.15//
METHOD:PUBLISH
BEGIN:VEVENT
UID:20260421T020141CEST-0785EAJEv3@https://www.takethedate.it/
DTSTAMP:20260421T000141Z
DESCRIPTION:Il Festival Nazionale dell’Economia Civile è un luogo di incont
 ro per dare forza e slancio a una grande\, democratica e generativa\, mobi
 litazione di persone\, imprese e associazioni per una nuova economia.\nUn 
 Festival che dà voce a una società civile in movimento: giovani che coniug
 ano profitto e impatto sociale\, imprenditori campioni nella creazione di 
 valore sostenibile\, comunità che coltivano semi di cambiamento che trasfo
 rmano la realtà. https://www.takethedate.it/tutti-gli-eventi/Eventi/21267-
 festival-nazionale-delleconomia-civile.html
DTSTART:20200925T080000Z
DTEND:20200927T180000Z
LOCATION:Firenze (Firenze)
SUMMARY:Festival Nazionale dell’Economia Civile
URL:https://www.takethedate.it/tutti-gli-eventi/Eventi/21267-festival-nazio
 nale-delleconomia-civile.html
END:VEVENT
END:VCALENDAR
