BEGIN:VCALENDAR
VERSION:2.0
PRODID:-//https://www.takethedate.it///NONSGML kigkonsult.se iCalcreator 2.10.15//
METHOD:PUBLISH
BEGIN:VEVENT
UID:20260424T052739CEST-7320VO2O7j@https://www.takethedate.it/
DTSTAMP:20260424T032739Z
DESCRIPTION:Parte il 22 aprile una serie di webinar  dell’ENEA sul tema del
 l’efficienza energetica negli edifici che tratteranno di aspetti tecnologi
 \, normativi e finanziari oltre che di campagne di comunicazione e comport
 amenti consapevoli dei cittadini.\nL’efficienza energetica ha un ruolo str
 ategico in tutti i settori\, per la  tutela dell'ambiente\, la sicurezza e
 nergetica e la riduzione della spesa.  La riqualificazione del parco edili
 zio esistente\, in particolare quello pubblico\, rappresenta un settore co
 n elevate potenzialità d’investimento e di ricadute occupazionali.\nL’iniz
 iativa è parte del progetto ES-PA (Energia e Sostenibilità per la Pubblica
  Amministrazione)\, che mira ad un rafforzamento permanente delle competen
 ze dei tecnici e dei funzionari delle amministrazioni regionali e locali m
 ettendo a disposizione  in forma gratuita\, un’ampia offerta di prodotti e
  servizi dell’ENEA. Sul sito www.espa.enea.it (sezione “Prodotti e Servizi
 ”) è possibile accedere\, già da ora\, a diversi strumenti sul tema dell’e
 fficienza energetica degli edifici pubblici.\nI webinar si terranno\, con 
 cadenza settimanale\, il mercoledì a partire dalle ore 10:30. Al termine d
 egli interventi dei relatori\, gli esperti dell’Agenzia saranno a disposiz
 ione dei partecipanti  per chiarimenti e rispondere alle domande.\nPer par
 tecipare è necessario effettuare la registrazione al link sottostante\, al
  termine della quale saranno inviate\, a ciascun partecipante\, le credenz
 iali di accesso alla piattaforma su cui saranno caricate le registrazioni 
 dei webinar\, le presentazioni dei relatori\, informazioni sul progetto ES
 -PA ed un questionario di gradimento.\nPROGRAMMA\nProssimi appuntamenti:\n
 29 aprile - Francesca Margiotta - Soluzioni progettuali per interventi di 
 efficientamento energetico 6 maggio - Patrizia Aversa - Dall’agricoltura m
 ateriali per un'edilizia efficiente e sostenibile13 maggio - Patrizia Aver
 sa - Benessere indoor ed efficienza energetica: l’edilizia del futuro20 ma
 ggio - Mario Diana - Indirizzare i comportamenti dei consumatori finali : 
 teoria e best practices27 maggio - Giovanni Addamo - Cambiamento climatico
 : dalle strategie europee ai PAES e  PAESC\n \n  https://www.takethedate.i
 t/tutti-gli-eventi/Eventi/19413-lefficienza-energetica-negli-edifici.html
DTSTART:20200513T083000Z
DTEND:20200513T103000Z
LOCATION:evento online  ()
SUMMARY:L'efficienza energetica negli edifici
URL:https://www.takethedate.it/tutti-gli-eventi/Eventi/19413-lefficienza-en
 ergetica-negli-edifici.html
END:VEVENT
END:VCALENDAR
