BEGIN:VCALENDAR
VERSION:2.0
PRODID:-//https://www.takethedate.it///NONSGML kigkonsult.se iCalcreator 2.10.15//
METHOD:PUBLISH
BEGIN:VEVENT
UID:20260419T195021CEST-1110DXs8U6@https://www.takethedate.it/
DTSTAMP:20260419T175021Z
DESCRIPTION:Scuola di Lettere Filosofia Lingue\, Aula MagnaVia Ostiense\, 2
 34/238 - Roma\nGiovedì 23 gennaio 2020 alle ore 15.00 si terrà nell'Aula M
 agna della Scuola di Lettere Filosofia Lingue la Cerimonia di inaugurazion
 e dell'Anno Accademico 2019-2020 con la Lectio Magistralis della prof.ssa 
 Marta Cartabia\, Presidente della Corte Costituzionale\nL'ingresso in aula
  sarà consentito fino alle ore 14.30.\nProgramma\nOre 15.00Ingresso del Co
 rteo Accademico\nHändel\, Suite in re maggiore per tromba e archi\, Overtu
 re\nInterventiValentino MazzeoRappresentante degli Studenti\nGabriella Alì
 Rappresentante del Personale Tecnico Amministrativo e Bibliotecario\nSeren
 a AmminatiPresentazione del videoIn Codice Ratio\nIndirizzi di salutoDanie
 le LeodoriVicepresidente della Regione Lazio\nVirginia RaggiSindaca di Rom
 a Capitale\nGaetano ManfrediMinistro dell'Università e della Ricerca\nMoza
 rt\, Divertimento per archi K. 137\, primo movimento andante\nDiscorso ina
 uguraleLuca PietromarchiMagnifico Rettore\nMozart\, Divertimento per archi
  K. 137\, secondo movimento allegro di molto\nLectio MagistralisMarta Cart
 abiaPresidente della Corte Costituzionale“Una parola di giustizia. Le Eume
 nidi\, dalla maledizione al logos”\nApertura dell’Anno Accademico\nRoma Tr
 e Orchestra EnsembleValentina Del Re\, Chiara Derme\, Ingrid Ranalli\, vio
 liniIlaria Soldo\, violaAlessandro Guaitolini\, violoncelloErnesto Toesca\
 , tromba\n  https://www.takethedate.it/tutti-gli-eventi/Eventi/18013-cerim
 onia-di-inaugurazione-dellanno-accademico-2019-2020-delluniversita-di-roma
 -tre.html
DTSTART:20200123T140000Z
DTEND:20200123T170000Z
LOCATION: ()
SUMMARY:Cerimonia di inaugurazione dell'Anno Accademico 2019-2020 dell'Univ
 ersità di Roma Tre
URL:https://www.takethedate.it/tutti-gli-eventi/Eventi/18013-cerimonia-di-i
 naugurazione-dellanno-accademico-2019-2020-delluniversita-di-roma-tre.html
END:VEVENT
END:VCALENDAR
