BEGIN:VCALENDAR
VERSION:2.0
PRODID:-//https://www.takethedate.it///NONSGML kigkonsult.se iCalcreator 2.10.15//
METHOD:PUBLISH
BEGIN:VEVENT
UID:20260421T194755CEST-1095vNvUm3@https://www.takethedate.it/
DTSTAMP:20260421T174755Z
DESCRIPTION:Si terrà il 24 gennaio\, a Lamezia Terme\, il Forum Olivicolo N
 azionale promosso da Cia-Agricoltori Italiani.\n\nI lavori\, al Grand Hote
 l Lamezia dalle ore 10\, si apriranno con i saluti di Nicodemo Podella\, p
 residente Cia Calabria\, e l’introduzione di Gino Catania\, presidente Gie
 -Cia Olio.\nA seguire le relazioni di Fabio Del Bravo (ISMEA Direzione Ser
 vizi per lo Sviluppo rurale)\, Anna Rufolo (Dipartimento Sviluppo agroalim
 entare e territorio Cia)\, Rachid Benali (presidente INTERPROLIVE)\, Enzo 
 Perri (CREA Centro di ricerca Olivicoltura\, Frutticoltura e Agrumicoltura
 \, responsabile sede di Rende).\nSi terrà poi\, alle 11.30\, la tavola rot
 onda con filiera e istituzioni\, moderata dal giornalista Gianfranco Manfr
 edi. Parteciperanno Fabrizio Pini (presidente Italia Olivicola)\, Benedett
 o Fracchiolla (presidente Finoliva Global Service)\, Andrea Carrassi (dire
 ttore generale Assitol)\, Renata Pascarelli (direttore Qualità Coop Italia
 )\, Edy Bandiera (assessore Agricoltura Regione Sicilia).\nE’ stata invita
 ta la ministra delle Politiche agricole\, alimentari e forestali Teresa Be
 llanova.\nA chiudere i lavori le conclusioni di Dino Scanavino\, president
 e nazionale Cia-Agricoltori Italiani.\n https://www.takethedate.it/tutti-g
 li-eventi/Eventi/17810-forum-olivicolo-nazionale.html
DTSTART:20200124T090000Z
DTEND:20200124T120000Z
LOCATION:Grand Hotel Lamezia (Piazza Lamezia\, Lamezia Terme)
SUMMARY:Forum olivicolo nazionale
URL:https://www.takethedate.it/tutti-gli-eventi/Eventi/17810-forum-olivicol
 o-nazionale.html
END:VEVENT
END:VCALENDAR
