BEGIN:VCALENDAR
VERSION:2.0
PRODID:-//https://www.takethedate.it///NONSGML kigkonsult.se iCalcreator 2.10.15//
METHOD:PUBLISH
BEGIN:VEVENT
UID:20260423T160433CEST-5628URSbdS@https://www.takethedate.it/
DTSTAMP:20260423T140433Z
DESCRIPTION:Il Presidente dell’A.I.A.D.\, On. Guido Crosetto\, ha il piacer
 e di invitarLa al Convegno “Aerospazio\, difesa e sicurezza: l’ora delle s
 celte strategiche” che si terrà in occasione della parte pubblica dell’Ass
 emblea della Federazione.\nInterverranno:• il Capo di Stato Maggiore della
  Difesa\, Gen. Enzo Vecciarelli\;• l’Amministratore Delegato di Leonardo\,
  Dr. Alessandro Profumo\;• l’Amministratore Delegato di Fincantieri\, Dr. 
 Giuseppe Bono. alla presenza di altre Autorità Civili\, Militari e dei Ver
 tici Industriali. Concluderà i lavori il Ministro della Difesa\, Dr.ssa El
 isabetta Trenta. Il Convegno avrà luogo a RomaAuditorium Andreatta\, CASD 
 (Centro Alti Studi Difesa)Piazza della Rovere\, 83Lunedì 15 luglio p.v.\, 
 alle ore 10:30\, registrazione alle ore 10:00  RSVP entro Lunedì 8 luglio 
 p.v. al seguente link https://www.takethedate.it/tutti-gli-eventi/Eventi/1
 4272-aerospazio-difesa-e-sicurezza-lora-delle-scelte-strategiche.html
DTSTART:20190715T080000Z
DTEND:20190715T110000Z
LOCATION: ()
SUMMARY:Aerospazio\, difesa e sicurezza: l’ora delle scelte strategiche
URL:https://www.takethedate.it/tutti-gli-eventi/Eventi/14272-aerospazio-dif
 esa-e-sicurezza-lora-delle-scelte-strategiche.html
END:VEVENT
END:VCALENDAR
