BEGIN:VCALENDAR
VERSION:2.0
PRODID:-//https://www.takethedate.it///NONSGML kigkonsult.se iCalcreator 2.10.15//
METHOD:PUBLISH
BEGIN:VEVENT
UID:20260424T173934CEST-2457X3VWej@https://www.takethedate.it/
DTSTAMP:20260424T153934Z
DESCRIPTION:L'evento si svolge a Roma https://www.takethedate.it/tutti-gli-
 eventi/Eventi/1349-ecosistema-rischio.html
DTSTART:20171122T090000Z
DTEND:20171122T120000Z
LOCATION:Palazzo Chigi (Via della Mercede 9\, Roma)
SUMMARY:Ecosistema rischio
URL:https://www.takethedate.it/tutti-gli-eventi/Eventi/1349-ecosistema-risc
 hio.html
END:VEVENT
END:VCALENDAR
