BEGIN:VCALENDAR
VERSION:2.0
PRODID:-//https://www.takethedate.it///NONSGML kigkonsult.se iCalcreator 2.10.15//
METHOD:PUBLISH
BEGIN:VEVENT
UID:20260419T200851CEST-2178Nhp74S@https://www.takethedate.it/
DTSTAMP:20260419T180851Z
DESCRIPTION:Napoli Via Domenico Morelli 7 ore 16:00\nOrganizzato da: Magist
 ratura IndipendenteIntroduzione: Antonio D'Amato (Segretario Distrettuale 
 Magistratura Indipendente Napoli). Saluti Giovanna Napoletano (Presidente 
 Magistratura Indipendente)\, Antonio Tafuri (Presidente Consiglio Ordine A
 vvocati Napoli). Intervengono: Antonio de Notaristefani (Presidente dell'U
 nione Nazionale delle Camere Civili)\, Filippo Donati (Docente Universitar
 io\, Componente Consiglio Superiore Magistratura\, Presidente della nona C
 ommissione Consiliare)\, Gianluigi Nuzzi (giornalista\, scrittore)\, Aless
 andro Meluzzi (psichiatra forense)\, Eduardo Savarese (magistrato\, Tribun
 ale di Napoli). Modera e conclude Antonio Lepre (Componente Consiglio Supe
 riore Magistratura\, Presidente della IV Commissione Consiliare). https://
 www.takethedate.it/tutti-gli-eventi/Eventi/12015-il-magistrato-e-lempatia.
 html
DTSTART:20190314T150000Z
DTEND:20190314T180000Z
LOCATION:Magistratura Indipendente Napoli (Via Domenico Morelli 7\, Napoli 
 )
SUMMARY:Il magistrato e l'empatia
URL:https://www.takethedate.it/tutti-gli-eventi/Eventi/12015-il-magistrato-
 e-lempatia.html
END:VEVENT
END:VCALENDAR
