BEGIN:VCALENDAR
VERSION:2.0
PRODID:-//https://www.takethedate.it///NONSGML kigkonsult.se iCalcreator 2.10.15//
METHOD:PUBLISH
BEGIN:VEVENT
UID:20260424T115433CEST-0311i9hF2l@https://www.takethedate.it/
DTSTAMP:20260424T095433Z
DESCRIPTION:Giovedì 5 dicembre\, alle ore 11.00\, presso la hall del Policl
 inico Universitario Campus Bio-Medico a Roma\, in via Álvaro del Portillo\
 , 200\, si terrà l'inaugurazione della nuova Parafarmacia a servizio del C
 ampus universitario e del quartiere di Trigoria\, alle porte della Riserva
  Naturale di Decima Malafede. L'apertura della Parafarmacia rappresenta un
  ampliamento dei servizi sanitari a disposizione di studenti\, docenti\, p
 ersonale\, cittadini e visitatori e si inserisce all'interno del progetto 
 di sviluppo del polo multiservizi del Campus Bio-Medico “Campus Hub” nell'
 ambito del Social Green Masterplan in ottica One Health.\nCon l'occasione 
 verrà presentata l'iniziativa Social Card\, con cui Igea e Campus Bio-Medi
 co mettono a disposizione servizi gratuiti a beneficio di famiglie e bambi
 ni bisognosi indicati dal Municipio Roma IX-EUR.\nPrenderanno parte al tag
 lio del nastro: Giancarlo Righini\, Assessore Bilancio\, Programmazione ec
 onomica\, Agricoltura e sovranità alimentare\, Caccia e Pesca\, Parchi e F
 oreste della Regione Lazio\; Titti Di Salvo\, Presidente Municipio Roma IX
 -EUR\; Carlo Tosti\, Presidente Università e Fondazione Policlinico Univer
 sitario Campus Bio-Medico. https://www.takethedate.it/sanita/Eventi/44535-
 inaugurazione-della-nuova-parafarmacia-del-campus-bio-medico.html
DTSTART:20241205T100000Z
DTEND:20241205T110000Z
LOCATION: ()
SUMMARY:Inaugurazione della nuova Parafarmacia del Campus Bio-Medico
URL:https://www.takethedate.it/sanita/Eventi/44535-inaugurazione-della-nuov
 a-parafarmacia-del-campus-bio-medico.html
END:VEVENT
END:VCALENDAR
