BEGIN:VCALENDAR
VERSION:2.0
PRODID:-//https://www.takethedate.it///NONSGML kigkonsult.se iCalcreator 2.10.15//
METHOD:PUBLISH
BEGIN:VEVENT
UID:20260421T173602CEST-8862Ko4Grv@https://www.takethedate.it/
DTSTAMP:20260421T153602Z
DESCRIPTION:Francesco Petrelli Presidente dell’Unione delle Camere Penali I
 taliane - per il Sì\nGiuseppe Santalucia Presidente della I Sezione Penale
  della Corte Suprema di Cassazione - per il NO\ngiovedì 19 marzo 2026 ore 
 18:00 welcome coffee - ore 18:30 inizio dibattito\npresso GA Alliance (Via
  Pinciana) https://www.takethedate.it/referendum-giustizia/Eventi/50889-re
 ferendum-2026---le-ragioni-del-si-e-del-no.html
DTSTART:20260319T170000Z
DTEND:20260319T190000Z
LOCATION:Roma (Roma)
SUMMARY:Referendum 2026 – Le ragioni del sì e del no
URL:https://www.takethedate.it/referendum-giustizia/Eventi/50889-referendum
 -2026---le-ragioni-del-si-e-del-no.html
END:VEVENT
END:VCALENDAR
