BEGIN:VCALENDAR
VERSION:2.0
PRODID:-//https://www.takethedate.it///NONSGML kigkonsult.se iCalcreator 2.10.15//
METHOD:PUBLISH
BEGIN:VEVENT
UID:20260423T134935CEST-6396KMdmRh@https://www.takethedate.it/
DTSTAMP:20260423T114935Z
DESCRIPTION:Riunione informale dei Capi di Stato o di Governo del Consiglio
  europeo https://www.takethedate.it/politica/Eventi/52525-riunione-informa
 le-dei-capi-di-stato-o-di-governo-del-consiglio-europeo.html
DTSTART:20260424T070000Z
DTEND:20260425T170000Z
LOCATION:evento online  ()
SUMMARY:Riunione informale dei Capi di Stato o di Governo del Consiglio eur
 opeo
URL:https://www.takethedate.it/politica/Eventi/52525-riunione-informale-dei
 -capi-di-stato-o-di-governo-del-consiglio-europeo.html
END:VEVENT
END:VCALENDAR
