BEGIN:VCALENDAR
VERSION:2.0
PRODID:-//https://www.takethedate.it///NONSGML kigkonsult.se iCalcreator 2.10.15//
METHOD:PUBLISH
BEGIN:VEVENT
UID:20260423T134551CEST-5647aAxOu0@https://www.takethedate.it/
DTSTAMP:20260423T114551Z
DESCRIPTION:L’Accademia di Diritto e Migrazioni (ADiM) è lieta di invitare 
 studiose/i junior e senior\, professionisti/e del settore e decisori polit
 ici\, alla ADiM-IntoME Migration Conference 2026\, ospitata dall’Universit
 à della Tuscia (Viterbo) dal 27 al 29 maggio 2026. La Conferenza si svolge
 rà pochi giorni prima dell’entrata in applicazione del Patto UE su migrazi
 one e asilo (giugno 2026) e sarà un’occasione per valutare le sfide e le i
 mplicazioni che attendono il diritto d’asilo e la più ampia governance eur
 opea delle migrazioni. L’evento offrirà uno spazio internazionale di confr
 onto per presentare ricerche innovative\, discutere analisi e proposte di 
 policy\, nonché per promuovere la collaborazione tra accademici\, giuristi
 \, rappresentanti della società civile e istituzioni impegnate nella gover
 nance delle migrazioni.\n \nCall for proposals ADiM-IntoME Migration Confe
 rence 2026 (IT)\n  https://www.takethedate.it/politica/Eventi/52484-migrat
 ion-conference-2026.html
DTSTART:20260527T070000Z
DTEND:20260529T170000Z
LOCATION:Viterbo (Viterbo)
SUMMARY:Migration Conference 2026
URL:https://www.takethedate.it/politica/Eventi/52484-migration-conference-2
 026.html
END:VEVENT
END:VCALENDAR
