BEGIN:VCALENDAR
VERSION:2.0
PRODID:-//https://www.takethedate.it///NONSGML kigkonsult.se iCalcreator 2.10.15//
METHOD:PUBLISH
BEGIN:VEVENT
UID:20260423T134239CEST-21493WGDBs@https://www.takethedate.it/
DTSTAMP:20260423T114239Z
DESCRIPTION:ER2Digit è lo European Digital Innovation Hub della regione Emi
 lia-Romagna\, nato per favorire il miglioramento dell’offerta di servizi p
 ubblici e l’adozione di soluzioni digitali innovative nella Pubblica Ammin
 istrazione e nelle Imprese del territorio.\nL'evento finale di ER2Digit è 
 in programma il 29 aprile 2026 dalle 14:30 alle 18:00 presso DAMA Tecnopol
 o a Bologna.\n \n\n\n\nPer maggiori informazioni: www.er2digit.it | er2dig
 it@art-er.it\n\n\n https://www.takethedate.it/politica/Eventi/52458-trasfo
 rmazione-digitale-limpatto-dei-servizi-er2digit-su-pa-e-pmi-dellemilia-rom
 agna.html
DTSTART:20260429T123000Z
DTEND:20260429T160000Z
LOCATION:Bologna ()
SUMMARY:Trasformazione Digitale: l'Impatto dei Servizi ER2Digit su PA e PMI
  dell'Emilia-Romagna
URL:https://www.takethedate.it/politica/Eventi/52458-trasformazione-digital
 e-limpatto-dei-servizi-er2digit-su-pa-e-pmi-dellemilia-romagna.html
END:VEVENT
END:VCALENDAR
