BEGIN:VCALENDAR
VERSION:2.0
PRODID:-//https://www.takethedate.it///NONSGML kigkonsult.se iCalcreator 2.10.15//
METHOD:PUBLISH
BEGIN:VEVENT
UID:20260423T132933CEST-2282VrWW4z@https://www.takethedate.it/
DTSTAMP:20260423T112933Z
DESCRIPTION: https://www.takethedate.it/politica/Eventi/52456-question-time
 -aula-del-senato.html
DTSTART:20260423T130000Z
DTEND:20260423T140000Z
LOCATION:Roma (Roma)
SUMMARY:Question time Aula del Senato
URL:https://www.takethedate.it/politica/Eventi/52456-question-time-aula-del
 -senato.html
END:VEVENT
END:VCALENDAR
