BEGIN:VCALENDAR
VERSION:2.0
PRODID:-//https://www.takethedate.it///NONSGML kigkonsult.se iCalcreator 2.10.15//
METHOD:PUBLISH
BEGIN:VEVENT
UID:20260419T183946CEST-2701CvOSfH@https://www.takethedate.it/
DTSTAMP:20260419T163946Z
DESCRIPTION:\n\n\nL’Ufficio del Parlamento europeo in Italia\, in collabora
 zione con la Rappresentanza della Commissione europea in Italia\, organizz
 a un confronto sul completamento del mercato dei servizi finanziari e dei 
 capitali. Partecipa\, tra gli altri\, Enrico Letta\, autore del rapporto s
 ul futuro del mercato unico. Lunedì 20 aprile 2026\, ore 17:00\, presso la
  Sala Europa – Piazza Venezia 11\, Roma\n\n\n\n\n\n\nI lavori\, aperti dai
  saluti istituzionali di Carlo Corazza\, direttore dell’Ufficio del Parlam
 ento europeo in Italia\, e di Claudio Casini\, direttore della Rappresenta
 nza della Commissione europea in Italia\, saranno introdotti da Roberto So
 mmella\, direttore di Milano Finanza\, che modererà tutto l’evento. A segu
 ire Enrico Letta\, autore del rapporto sul futuro del mercato unico\, l’in
 tegrazione del mercato dei capitali e il completamento dell’Unione bancari
 a\, prenderà la parola per illustrare la posta in gioco e le riforme ancor
 a necessarie.\nAl discorso di apertura seguirà il confronto con il preside
 nte di ABI Antonio Patuelli e Dario Focarelli\, direttore generale di ANIA
 . L’evento proseguirà\, quindi\, con il dibattito “Le proposte dell’UE e i
 l ruolo del regolatore” nel quale interverranno\, in collegamento\, gli eu
 rodeputati Irene Tinagli (S&D-PD)\, presidente della commissione speciale 
 per la crisi degli alloggi\, Marco Falcone (PPE-FI) e Giovanni Crosetto (E
 CR-FdI)\, membri della commissione per i problemi economici e monetari. A 
 chiudere\, il confronto tra Lauro Panella\, del gabinetto della commissari
 a europea per i servizi finanziari e l’Unione dei risparmi e degli investi
 menti Maria Luís Albuquerque\, Stefano Genovese\, responsabile Relazioni p
 ubbliche e istituzionali del gruppo UNIPOL\, Nadia Linciano\, segretario g
 enerale della Commissione nazionale per le società e la borsa\, e Marcello
  Bianchi\, direttore area Mercato dei capitali e società quotate\, Assonim
 e.\nAccrediti stampa disponibili sul posto.\nProgramma completo\n\n\n http
 s://www.takethedate.it/eventi-roma/Eventi/52358-autonomia-strategica-ue-e-
 unione-dei-risparmi-e-degli-investimenti.html
DTSTART:20260420T150000Z
DTEND:20260420T170000Z
LOCATION:Roma (Roma)
SUMMARY:Autonomia strategica Ue e Unione dei risparmi e degli investimenti
URL:https://www.takethedate.it/eventi-roma/Eventi/52358-autonomia-strategic
 a-ue-e-unione-dei-risparmi-e-degli-investimenti.html
END:VEVENT
END:VCALENDAR
