BEGIN:VCALENDAR
VERSION:2.0
PRODID:-//https://www.takethedate.it///NONSGML kigkonsult.se iCalcreator 2.10.15//
METHOD:PUBLISH
BEGIN:VEVENT
UID:20260419T184506CEST-5887xSeCO6@https://www.takethedate.it/
DTSTAMP:20260419T164506Z
DESCRIPTION:Pensioni e benefici degli agenti e rappresentanti di commercio 
 - Lunedì alle 9.30 diretta webtv - Saluto di Rampelli\n\nLunedì 20 aprile\
 , alle ore 9.30\, presso l'Aula dei Gruppi parlamentari si svolge il conve
 gno Enasarco 'Pensioni e benefici degli agenti e rappresentanti di commerc
 io'. Saluto del vicepresidente della Camera\, Fabio Rampelli.\n \nIn alleg
 ato il programma\n https://www.takethedate.it/eventi-roma/Eventi/52294-pen
 sioni-e-benefici-degli-agenti-e-rappresentanti-di-commercio.html
DTSTART:20260420T073000Z
DTEND:20260420T103000Z
LOCATION:Roma (Roma)
SUMMARY:Pensioni e benefici degli agenti e rappresentanti di commercio
URL:https://www.takethedate.it/eventi-roma/Eventi/52294-pensioni-e-benefici
 -degli-agenti-e-rappresentanti-di-commercio.html
END:VEVENT
END:VCALENDAR
