BEGIN:VCALENDAR
VERSION:2.0
PRODID:-//https://www.takethedate.it///NONSGML kigkonsult.se iCalcreator 2.10.15//
METHOD:PUBLISH
BEGIN:VEVENT
UID:20260419T184837CEST-8264GGHumZ@https://www.takethedate.it/
DTSTAMP:20260419T164837Z
DESCRIPTION:In un momento storico complesso e attraversato da diversi confl
 itti\, l’Europa deve consolidare l’unione e il dialogo tra i Paesi aderent
 i e con gli altri attori mondiali\, per promuovere la democrazia e i suoi 
 principi.\nIn particolare\, l’Unione deve essere in grado\, ascoltando i s
 uoi cittadini\, di contribuire a trovare una soluzione per i conflitti in 
 corso che sia stabile e duratura.\nPer questo l’Hackathon proposto dall’Un
 iversità degli studi LINK cerca di offrire a studenti e studentesse una pr
 ospettiva proattiva riguardo all’azione dell’Ue stessa.\nIn particolare\, 
 si proporrà ai/alle partecipanti di sottoporre un appello all’Ue che conte
 nga le ragioni e le modalità di una sua diversa azione sullo scenario inte
 rnazionale.\nLa giornata sarà divisa come segue: 1) 10:00-12:00 Lezione in
 iziale su Cos’è e come funziona l’Ue\, seguita da un focus sugli scenari d
 i politica estera della stessa.\n2) 12:15-12:30 Divisione dei/delle partec
 ipanti in squadre 3) 12:30-13:45 Realizzazione da parte di ogni squadra di
  un appello alla Commissione e al Consiglio europeo scritto indicante ragi
 oni e politiche proposte per una soluzione delle crisi in corso\; di un br
 eve video di supporto allo stesso.\n4) 15:00-16:30 Definizione da parte di
  ogni squadra di un piano B che deve rispondere alla domanda “Cosa posso f
 are se l’Ue non farà ciò che gli chiedo di fare?” 5) 16:30-17:30 Valutazio
 ne dei lavori di ogni squadra e discussione dei loro “piani B”\, con succe
 ssiva definizione del vincitore.\nLo scopo della giornata è far interrogar
 e i/le ragazzi/e su cosa può fare l’Unione di oggi e sui suoi limiti\, con
 tribuendo a sviluppare la riflessione su ciò che loro stessi possono fare 
 per l’Unione di oggi\, come attori partecipi e protagonisti del cambiament
 o.\nIl tutto è finalizzato a pensare attivamente alla soluzione delle cris
 i in corso e alla definizione di uno stabile quadro di pace per l’Europa. 
 https://www.takethedate.it/eventi-roma/Eventi/52281-hackathon-cosa-puo-far
 e-lue-per-dare-un-futuro-di-pace-ai-suoi-cittadini-e-i-cittadini-cosa-poss
 ono-fare.html
DTSTART:20260421T080000Z
DTEND:20260421T153000Z
LOCATION:Roma (Roma)
SUMMARY:Hackathon “Cosa può fare l’UE per dare un futuro di pace ai suoi ci
 ttadini? e i cittadini cosa possono fare?”
URL:https://www.takethedate.it/eventi-roma/Eventi/52281-hackathon-cosa-puo-
 fare-lue-per-dare-un-futuro-di-pace-ai-suoi-cittadini-e-i-cittadini-cosa-p
 ossono-fare.html
END:VEVENT
END:VCALENDAR
