BEGIN:VCALENDAR
VERSION:2.0
PRODID:-//https://www.takethedate.it///NONSGML kigkonsult.se iCalcreator 2.10.15//
METHOD:PUBLISH
BEGIN:VEVENT
UID:20260419T172009CEST-2185GHkGP0@https://www.takethedate.it/
DTSTAMP:20260419T152009Z
DESCRIPTION:Il 28 aprile\, in occasione della Giornata mondiale della salut
 e e sicurezza sul lavoro\, si terrà a Roma il convegno di presentazione de
 l programma della quinta edizione del Festival Internazionale della Salute
  e Sicurezza sul Lavoro\, insieme al programma della terza edizione di Saf
 ety Love.L’evento si svolgerà dalle 15:00 alle 18:00 presso la Biblioteca 
 della Camera dei deputati\, Sala del Refettorio.Un appuntamento importante
  per riportare l’attenzione sul valore della prevenzione\, della cultura d
 ella sicurezza e della tutela della salute nei luoghi di lavoro.Per regist
 rarsi clicca qui https://www.takethedate.it/eventi-roma/Eventi/52227-salut
 e-sicurezza-e-lavoro-un-sistema-solidale.html
DTSTART:20260428T130000Z
DTEND:20260428T160000Z
LOCATION:Roma (Roma)
SUMMARY:Salute\, sicurezza e lavoro. Un sistema solidale
URL:https://www.takethedate.it/eventi-roma/Eventi/52227-salute-sicurezza-e-
 lavoro-un-sistema-solidale.html
END:VEVENT
END:VCALENDAR
