BEGIN:VCALENDAR
VERSION:2.0
PRODID:-//https://www.takethedate.it///NONSGML kigkonsult.se iCalcreator 2.10.15//
METHOD:PUBLISH
BEGIN:VEVENT
UID:20260419T172021CEST-2378oFb3fc@https://www.takethedate.it/
DTSTAMP:20260419T152021Z
DESCRIPTION:Saluti Mauro Del Barba (Italia Viva)\, Enrico Borghi (Vice Pres
 idente Italia Viva). Con l'autore ne parlano: Vincenzo Camporini (Generale
  Aeronautica Militare)\, Lorenzo Guerini (Presidente COPASIR)\, Stefania C
 raxi (Presidente Commissione Affari Esteri e Difesa del Senato)\, Frèdèric
  Petit (Membro Assemblea Francese Lès Dèmocrats\, Mouvement democrate - Mo
 dem). https://www.takethedate.it/eventi-roma/Eventi/52217-presentazione-de
 l-libro-lesercito-europeo.html
DTSTART:20260420T140000Z
DTEND:20260420T160000Z
LOCATION:Roma (Roma)
SUMMARY:Presentazione del libro: 'l'esercito europeo'
URL:https://www.takethedate.it/eventi-roma/Eventi/52217-presentazione-del-l
 ibro-lesercito-europeo.html
END:VEVENT
END:VCALENDAR
