BEGIN:VCALENDAR
VERSION:2.0
PRODID:-//https://www.takethedate.it///NONSGML kigkonsult.se iCalcreator 2.10.15//
METHOD:PUBLISH
BEGIN:VEVENT
UID:20260419T184750CEST-66501LvMCK@https://www.takethedate.it/
DTSTAMP:20260419T164750Z
DESCRIPTION:La prima giornata italiana sulla contrattazione collettiva\, or
 ganizzata da ADAPT\, è un evento centrale per l'analisi delle relazioni in
 dustriali .Tale incontro si inserisce nel dibattito sulle trasformazioni d
 el lavoro\, con particolare attenzione alla misurazione della rappresentan
 za sindacale e all'evoluzione dei contratti collettivi in un contesto econ
 omico e tecnologico in rapida mutazione.\n\n\n\nIscriviti\n\n\n https://ww
 w.takethedate.it/eventi-roma/Eventi/51967-prima-giornata-italiana-sulla-co
 ntrattazione-collettiva.html
DTSTART:20260611T073000Z
DTEND:20260611T113000Z
LOCATION:Roma (Roma)
SUMMARY:Prima giornata italiana sulla contrattazione collettiva
URL:https://www.takethedate.it/eventi-roma/Eventi/51967-prima-giornata-ital
 iana-sulla-contrattazione-collettiva.html
END:VEVENT
END:VCALENDAR
