BEGIN:VCALENDAR
VERSION:2.0
PRODID:-//https://www.takethedate.it///NONSGML kigkonsult.se iCalcreator 2.10.15//
METHOD:PUBLISH
BEGIN:VEVENT
UID:20260419T184455CEST-3575zUvU6v@https://www.takethedate.it/
DTSTAMP:20260419T164455Z
DESCRIPTION:\n\nLa Fondazione Magna Carta presenta il numero monografico 2.
  2024 della rivista Percorsi costituzionali\, dedicato al rapporto tra Sil
 vio Berlusconi e le istituzioni della Repubblica italiana.\nL’incontro apr
 e il ciclo Passato Prossimo – Graffiti di storia repubblicana\, promosso d
 alla FMC in occasione dell’80° anniversario della nascita della Repubblica
 . Il ciclo si propone di portare al centro del dibattito pubblico studi\, 
 ricerche e pubblicazioni che affrontano alcuni dei passaggi cruciali della
  storia politica e istituzionale italiana\, offrendo strumenti di analisi 
 per comprendere l’evoluzione del sistema repubblicano e il ruolo dei suoi 
 principali protagonisti.\nPROGRAMMA\n21 aprile 2026 – Ore 17.00\, Palazzo 
 Wedekind\, Piazza Colonna n. 366\, Roma\nRenato Brunetta Presidente CNEL\n
 Giovanni Pitruzzella Giudice della Corte Costituzionale\nLuciano Violante 
 Presidente di Futuri Probabili\, Associazione per la Formazione del Capita
 le Umano\nModera\nEmilia Patta Giornalista\, Il Sole 24 Ore\n \n\n\nClicca
  per iscriverti https://www.takethedate.it/eventi-roma/Eventi/51876-berlus
 coni-e-le-istituzioni.html
DTSTART:20260421T150000Z
DTEND:20260421T180000Z
LOCATION:Roma (Roma)
SUMMARY:Berlusconi e le istituzioni
URL:https://www.takethedate.it/eventi-roma/Eventi/51876-berlusconi-e-le-ist
 ituzioni.html
END:VEVENT
END:VCALENDAR
